BEGIN:VCALENDAR
VERSION:2.0
PRODID:-//Diocese of Camden - ECPv6.15.20//NONSGML v1.0//EN
CALSCALE:GREGORIAN
METHOD:PUBLISH
X-ORIGINAL-URL:https://www.camdendiocese.org
X-WR-CALDESC:Events for Diocese of Camden
REFRESH-INTERVAL;VALUE=DURATION:PT1H
X-Robots-Tag:noindex
X-PUBLISHED-TTL:PT1H
BEGIN:VTIMEZONE
TZID:America/New_York
BEGIN:DAYLIGHT
TZOFFSETFROM:-0500
TZOFFSETTO:-0400
TZNAME:EDT
DTSTART:20230312T070000
END:DAYLIGHT
BEGIN:STANDARD
TZOFFSETFROM:-0400
TZOFFSETTO:-0500
TZNAME:EST
DTSTART:20231105T060000
END:STANDARD
BEGIN:DAYLIGHT
TZOFFSETFROM:-0500
TZOFFSETTO:-0400
TZNAME:EDT
DTSTART:20240310T070000
END:DAYLIGHT
BEGIN:STANDARD
TZOFFSETFROM:-0400
TZOFFSETTO:-0500
TZNAME:EST
DTSTART:20241103T060000
END:STANDARD
BEGIN:DAYLIGHT
TZOFFSETFROM:-0500
TZOFFSETTO:-0400
TZNAME:EDT
DTSTART:20250309T070000
END:DAYLIGHT
BEGIN:STANDARD
TZOFFSETFROM:-0400
TZOFFSETTO:-0500
TZNAME:EST
DTSTART:20251102T060000
END:STANDARD
BEGIN:DAYLIGHT
TZOFFSETFROM:-0500
TZOFFSETTO:-0400
TZNAME:EDT
DTSTART:20260308T070000
END:DAYLIGHT
BEGIN:STANDARD
TZOFFSETFROM:-0400
TZOFFSETTO:-0500
TZNAME:EST
DTSTART:20261101T060000
END:STANDARD
END:VTIMEZONE
BEGIN:VEVENT
DTSTART;VALUE=DATE:20250122
DTEND;VALUE=DATE:20250123
DTSTAMP:20260420T013450
CREATED:20250110T160234Z
LAST-MODIFIED:20250114T183256Z
UID:58156-1737504000-1737590399@www.camdendiocese.org
SUMMARY:Nine Days for Life Novena
DESCRIPTION:9 Days for Life is an annual novena for the protection of human life. Each day’s intention is accompanied by a short reflection and suggested actions to help build a culture of life. Daily prayers for January 16 -24 here: respectlife.org/9-days-daily-prayers \nYou can sign up to receive the daily prayers via email or text message! \n\n\n\nFor more info and to sign up for notifications\, go to respectlife.org/9-days\n 
URL:https://www.camdendiocese.org/event/nine-days-for-life-novena/2025-01-22/
CATEGORIES:Main Events,Office of Life and Justice Ministries
ATTACH;FMTTYPE=image/png:https://www.camdendiocese.org/wp-content/uploads/2025/01/9-days-web-promo.png
END:VEVENT
BEGIN:VEVENT
DTSTART;VALUE=DATE:20250121
DTEND;VALUE=DATE:20250122
DTSTAMP:20260420T013450
CREATED:20250110T160234Z
LAST-MODIFIED:20250114T183256Z
UID:58155-1737417600-1737503999@www.camdendiocese.org
SUMMARY:Nine Days for Life Novena
DESCRIPTION:9 Days for Life is an annual novena for the protection of human life. Each day’s intention is accompanied by a short reflection and suggested actions to help build a culture of life. Daily prayers for January 16 -24 here: respectlife.org/9-days-daily-prayers \nYou can sign up to receive the daily prayers via email or text message! \n\n\n\nFor more info and to sign up for notifications\, go to respectlife.org/9-days\n 
URL:https://www.camdendiocese.org/event/nine-days-for-life-novena/2025-01-21/
CATEGORIES:Main Events,Office of Life and Justice Ministries
ATTACH;FMTTYPE=image/png:https://www.camdendiocese.org/wp-content/uploads/2025/01/9-days-web-promo.png
END:VEVENT
BEGIN:VEVENT
DTSTART;VALUE=DATE:20250120
DTEND;VALUE=DATE:20250121
DTSTAMP:20260420T013450
CREATED:20250110T160234Z
LAST-MODIFIED:20250114T183256Z
UID:58154-1737331200-1737417599@www.camdendiocese.org
SUMMARY:Nine Days for Life Novena
DESCRIPTION:9 Days for Life is an annual novena for the protection of human life. Each day’s intention is accompanied by a short reflection and suggested actions to help build a culture of life. Daily prayers for January 16 -24 here: respectlife.org/9-days-daily-prayers \nYou can sign up to receive the daily prayers via email or text message! \n\n\n\nFor more info and to sign up for notifications\, go to respectlife.org/9-days\n 
URL:https://www.camdendiocese.org/event/nine-days-for-life-novena/2025-01-20/
CATEGORIES:Main Events,Office of Life and Justice Ministries
ATTACH;FMTTYPE=image/png:https://www.camdendiocese.org/wp-content/uploads/2025/01/9-days-web-promo.png
END:VEVENT
BEGIN:VEVENT
DTSTART;TZID=America/New_York:20250119T140000
DTEND;TZID=America/New_York:20250119T150000
DTSTAMP:20260420T013450
CREATED:20250115T145246Z
LAST-MODIFIED:20250115T145254Z
UID:58250-1737295200-1737298800@www.camdendiocese.org
SUMMARY:Prayer Service for Immigration
DESCRIPTION:
URL:https://www.camdendiocese.org/event/prayer-service-for-immigration-1-27-25/
CATEGORIES:Office of Life and Justice Ministries
ATTACH;FMTTYPE=image/jpeg:https://www.camdendiocese.org/wp-content/uploads/2024/05/Lfe-and-Justice-Ministries-web-logo-24-1-scaled-e1714591026204.jpg
END:VEVENT
BEGIN:VEVENT
DTSTART;VALUE=DATE:20250119
DTEND;VALUE=DATE:20250120
DTSTAMP:20260420T013450
CREATED:20250110T160234Z
LAST-MODIFIED:20250114T183256Z
UID:58153-1737244800-1737331199@www.camdendiocese.org
SUMMARY:Nine Days for Life Novena
DESCRIPTION:9 Days for Life is an annual novena for the protection of human life. Each day’s intention is accompanied by a short reflection and suggested actions to help build a culture of life. Daily prayers for January 16 -24 here: respectlife.org/9-days-daily-prayers \nYou can sign up to receive the daily prayers via email or text message! \n\n\n\nFor more info and to sign up for notifications\, go to respectlife.org/9-days\n 
URL:https://www.camdendiocese.org/event/nine-days-for-life-novena/2025-01-19/
CATEGORIES:Main Events,Office of Life and Justice Ministries
ATTACH;FMTTYPE=image/png:https://www.camdendiocese.org/wp-content/uploads/2025/01/9-days-web-promo.png
END:VEVENT
BEGIN:VEVENT
DTSTART;VALUE=DATE:20250118
DTEND;VALUE=DATE:20250119
DTSTAMP:20260420T013450
CREATED:20250110T160234Z
LAST-MODIFIED:20250114T183255Z
UID:58152-1737158400-1737244799@www.camdendiocese.org
SUMMARY:Nine Days for Life Novena
DESCRIPTION:9 Days for Life is an annual novena for the protection of human life. Each day’s intention is accompanied by a short reflection and suggested actions to help build a culture of life. Daily prayers for January 16 -24 here: respectlife.org/9-days-daily-prayers \nYou can sign up to receive the daily prayers via email or text message! \n\n\n\nFor more info and to sign up for notifications\, go to respectlife.org/9-days\n 
URL:https://www.camdendiocese.org/event/nine-days-for-life-novena/2025-01-18/
CATEGORIES:Main Events,Office of Life and Justice Ministries
ATTACH;FMTTYPE=image/png:https://www.camdendiocese.org/wp-content/uploads/2025/01/9-days-web-promo.png
END:VEVENT
BEGIN:VEVENT
DTSTART;TZID=America/New_York:20250117T080000
DTEND;TZID=America/New_York:20250117T100000
DTSTAMP:20260420T013450
CREATED:20250107T174749Z
LAST-MODIFIED:20250109T150124Z
UID:58063-1737100800-1737108000@www.camdendiocese.org
SUMMARY:Catholic Business Network Meeting Jubilee Year: Why It Matters
DESCRIPTION:REGISTER HERE\nThe Catholic Business Network of South Jersey January Meeting (Jubilee 2025) \n \nThe Catholic Business Network will hold its next in-person meeting on Friday\, Jan. 17\, at the Catholic Community of Christ Our Light. \nAll business professionals are welcome to this event. All business professionals are welcome to this event. \nFor this month\, guests are invited to register at the discounted member rate! Become a member HERE \nGreat opportunity to start the day off with Mass and fellowship. \nPRAYER – 8 AM in the Church \nWELCOME & INTRODUCTIONS – Catholic Business Network President Jeff Morris. \nBREAKFAST & NETWORKING: 8:30 AM in the Parish Center. \nSPEAKER: Rosalie (Lee) Mirenda DelleMonache\, PhD \nDirector of Religious Education\, Diocese of Camden will speak about the Jubilee and Why it Matters in Our Faith. \nBREAKFAST SPONSOR: Oak Financial l Partners\, LLC \, John Napolitano
URL:https://www.camdendiocese.org/event/catholic-business-network-meeting-01-17-25/
LOCATION:The Catholic Community of Christ Our Light\, 402 Kings Hwy N\, Cherry Hill\, NJ\, 08034\, United States
CATEGORIES:Jubilee2025,Main Events
ATTACH;FMTTYPE=image/jpeg:https://www.camdendiocese.org/wp-content/uploads/2018/10/CBN-NEW-LOGO-1-e1730747727923.jpg
END:VEVENT
BEGIN:VEVENT
DTSTART;VALUE=DATE:20250117
DTEND;VALUE=DATE:20250118
DTSTAMP:20260420T013450
CREATED:20250110T160234Z
LAST-MODIFIED:20250114T183255Z
UID:58151-1737072000-1737158399@www.camdendiocese.org
SUMMARY:Nine Days for Life Novena
DESCRIPTION:9 Days for Life is an annual novena for the protection of human life. Each day’s intention is accompanied by a short reflection and suggested actions to help build a culture of life. Daily prayers for January 16 -24 here: respectlife.org/9-days-daily-prayers \nYou can sign up to receive the daily prayers via email or text message! \n\n\n\nFor more info and to sign up for notifications\, go to respectlife.org/9-days\n 
URL:https://www.camdendiocese.org/event/nine-days-for-life-novena/2025-01-17/
CATEGORIES:Main Events,Office of Life and Justice Ministries
ATTACH;FMTTYPE=image/png:https://www.camdendiocese.org/wp-content/uploads/2025/01/9-days-web-promo.png
END:VEVENT
BEGIN:VEVENT
DTSTART;VALUE=DATE:20250116
DTEND;VALUE=DATE:20250117
DTSTAMP:20260420T013450
CREATED:20250110T160234Z
LAST-MODIFIED:20250114T183255Z
UID:58146-1736985600-1737071999@www.camdendiocese.org
SUMMARY:Nine Days for Life Novena
DESCRIPTION:9 Days for Life is an annual novena for the protection of human life. Each day’s intention is accompanied by a short reflection and suggested actions to help build a culture of life. Daily prayers for January 16 -24 here: respectlife.org/9-days-daily-prayers \nYou can sign up to receive the daily prayers via email or text message! \n\n\n\nFor more info and to sign up for notifications\, go to respectlife.org/9-days\n 
URL:https://www.camdendiocese.org/event/nine-days-for-life-novena/2025-01-16/
CATEGORIES:Main Events,Office of Life and Justice Ministries
ATTACH;FMTTYPE=image/png:https://www.camdendiocese.org/wp-content/uploads/2025/01/9-days-web-promo.png
END:VEVENT
BEGIN:VEVENT
DTSTART;TZID=America/New_York:20250109T183000
DTEND;TZID=America/New_York:20250109T193000
DTSTAMP:20260420T013450
CREATED:20241230T184309Z
LAST-MODIFIED:20241230T185851Z
UID:57917-1736447400-1736451000@www.camdendiocese.org
SUMMARY:What is a Jubilee - parish talk
DESCRIPTION:Christ the Redeemer will host a Jubilee Year event on Thursday\, January 9\, 2025 at 6:30pm in the Pastoral Center. Father Joseph Wallace will present “What is a Jubilee?” All are invited to learn about the biblical origin of Jubilee and how to enter into these sacred celebrations.\n\n\n\n\nFor all of us\, may the Jubilee be a moment of genuine\, personal encounter with the Lord Jesus\, the “door” (cf. Jn 10:7.9) of our salvation\, whom the Church is charged to proclaim always\, everywhere and to all as “our hope” (1 Tim 1:1). – Pope Francis\, Spes Non Confundit 1
URL:https://www.camdendiocese.org/event/what-is-a-jubilee-parish-talk-1-09-25/
LOCATION:Christ the Redeemer Parish\, 318 Carl Hasselhan Dr\, Atco
CATEGORIES:Jubilee2025,Main Events
ATTACH;FMTTYPE=image/jpeg:https://www.camdendiocese.org/wp-content/uploads/2024/11/JUBILEE_2025_FEATURED_IMAGE-e1735584125290.jpg
END:VEVENT
BEGIN:VEVENT
DTSTART;TZID=America/New_York:20250108T203000
DTEND;TZID=America/New_York:20250108T203000
DTSTAMP:20260420T013450
CREATED:20241209T185658Z
LAST-MODIFIED:20241218T164748Z
UID:57653-1736368200-1736368200@www.camdendiocese.org
SUMMARY:Lector Training
DESCRIPTION:Both the Zoom meeting and one in-person session is required for certification \nCost: $50 for both\nWednesday January 8\, 2025\nZoom\, 6:30-8:30pm \nIn-Person Sessions (Choose One)\nTuesday\, January 14\, 2025\n6:30-8:30pm\nSaint Katharine Drexel Parish\n6077 West Jersey Ave.\, Egg Harbor Township\nor\nThursday January 16\, 2025\n6:30-8:30pm\,\nHoly Eucharist Parish\n344 Kresson Road\, Cherry Hill \nAll participants must be registered in advance. \nClick here to register: Lector Training 1.8.25
URL:https://www.camdendiocese.org/event/lector-training-1-08-25/
CATEGORIES:Main Events
ATTACH;FMTTYPE=image/jpeg:https://www.camdendiocese.org/wp-content/uploads/2022/02/DOC-Camden_Diocesan_Seal_for-WEB.jpg
END:VEVENT
BEGIN:VEVENT
DTSTART;TZID=America/New_York:20250105T140000
DTEND;TZID=America/New_York:20250105T150000
DTSTAMP:20260420T013450
CREATED:20241217T040132Z
LAST-MODIFIED:20250105T160327Z
UID:57762-1736085600-1736089200@www.camdendiocese.org
SUMMARY:Bishop Sullivan to celebrate Jubilee 2025 Diocesan Opening Mass
DESCRIPTION:Throughout the world\, celebrations for Jubilee Year 2025 have begun! \nBishop Dennis Sullivan will celebrate a Diocesan Opening Mass for the Holy Year on the feast of the Epiphany\, Sunday\, Jan. 5\, 2025 at 2 p.m. in the Cathedral of the Immaculate Conception\, 642 Market St.\, Camden.  Coadjutor Bishop Joseph Williams will concelebrate along with priests of the Diocese. \nAll are welcome! \nFor everyone\, may the Jubilee be a moment of genuine\, personal encounter with the Lord Jesus\, the “door” (cf. Jn 10:7.9) of our salvation\, whom the Church is charged to proclaim always\, everywhere and to all as “our hope” (1 Tim 1:1).~Pope Francis\, Spes Non Confundit 1 \n 
URL:https://www.camdendiocese.org/event/jubilee-2025-diocesan-opening-mass/
LOCATION:Cathedral of the Immaculate Conception\, 642 Market Street\, Camden\, NJ
CATEGORIES:Jubilee2025,Main Events
ATTACH;FMTTYPE=image/png:https://www.camdendiocese.org/wp-content/uploads/2024/12/Opening-Mass-Holy-Year-1.5.25_Jubilee-web-e1735841177339.png
END:VEVENT
BEGIN:VEVENT
DTSTART;TZID=America/New_York:20250105T080000
DTEND;TZID=America/New_York:20250105T120000
DTSTAMP:20260420T013450
CREATED:20241212T154005Z
LAST-MODIFIED:20250102T162930Z
UID:57735-1736064000-1736078400@www.camdendiocese.org
SUMMARY:Pope opening of Holy Door at St Paul's outside the Walls
DESCRIPTION:
URL:https://www.camdendiocese.org/event/opening-of-holy-door-at-st-pauls-outside-the-walls/
CATEGORIES:Jubilee2025
ATTACH;FMTTYPE=image/jpeg:https://www.camdendiocese.org/wp-content/uploads/2024/11/JUBILEE_2025_FEATURED_IMAGE-e1735584125290.jpg
END:VEVENT
BEGIN:VEVENT
DTSTART;VALUE=DATE:20250101
DTEND;VALUE=DATE:20250102
DTSTAMP:20260420T013450
CREATED:20241212T153924Z
LAST-MODIFIED:20250102T163012Z
UID:57733-1735689600-1735775999@www.camdendiocese.org
SUMMARY:Pope opening of Holy Door at St Mary Major's
DESCRIPTION:
URL:https://www.camdendiocese.org/event/opening-of-holy-door-at-st-mary-majors/
CATEGORIES:Jubilee2025
ATTACH;FMTTYPE=image/jpeg:https://www.camdendiocese.org/wp-content/uploads/2024/11/JUBILEE_2025_FEATURED_IMAGE-e1735584125290.jpg
END:VEVENT
BEGIN:VEVENT
DTSTART;VALUE=DATE:20241229
DTEND;VALUE=DATE:20241230
DTSTAMP:20260420T013450
CREATED:20241212T153656Z
LAST-MODIFIED:20241212T153656Z
UID:57731-1735430400-1735516799@www.camdendiocese.org
SUMMARY:Opening of Holy Door at St John Lateran's
DESCRIPTION:
URL:https://www.camdendiocese.org/event/opening-of-holy-door-at-st-john-laterans/
CATEGORIES:Jubilee2025
ATTACH;FMTTYPE=image/jpeg:https://www.camdendiocese.org/wp-content/uploads/2024/11/JUBILEE_2025_FEATURED_IMAGE-e1735584125290.jpg
END:VEVENT
BEGIN:VEVENT
DTSTART;VALUE=DATE:20241226
DTEND;VALUE=DATE:20241227
DTSTAMP:20260420T013450
CREATED:20241212T153621Z
LAST-MODIFIED:20241212T153621Z
UID:57729-1735171200-1735257599@www.camdendiocese.org
SUMMARY:Opening of Holy Door at Rebibbia Prison
DESCRIPTION:
URL:https://www.camdendiocese.org/event/opening-of-holy-door-at-rebibbia-prison/
CATEGORIES:Jubilee2025
ATTACH;FMTTYPE=image/jpeg:https://www.camdendiocese.org/wp-content/uploads/2024/11/JUBILEE_2025_FEATURED_IMAGE-e1735584125290.jpg
END:VEVENT
BEGIN:VEVENT
DTSTART;TZID=America/New_York:20241224T190000
DTEND;TZID=America/New_York:20241224T210000
DTSTAMP:20260420T013450
CREATED:20241212T153533Z
LAST-MODIFIED:20241212T153533Z
UID:57726-1735066800-1735074000@www.camdendiocese.org
SUMMARY:Opening of the Holy Door of Saint Peter’s Basilica
DESCRIPTION:The Holy Father will officially open the Holy Year with the rite of the Opening of the Holy Door of the Papal Basilica of St. Peter at 7pm on December 24. He will then preside over the celebration of Mass on the night of the Lord’s Birth inside the Basilica. The event can be followed via the giant screens set up in St. Peter’s Square. \nTo participate in the celebration from St. Peter’s Square\, no tickets are required. Simply register for the event via the Portal of the official Jubilee website https://register.iubilaeum2025.va/events/8 \nBishops and Priests who wish to concelebrate\, and Deacons who wish to participate\, must book at the Office of the Liturgical Celebrations of the Supreme Pontiff via the following link: https://biglietti.liturgiepontificie.va/en/ \n  \ninfo2@iubilaeum2025.va
URL:https://www.camdendiocese.org/event/opening-of-the-holy-door-of-saint-peters-basilica/
LOCATION:Basilica di San Pietro in Vaticano
CATEGORIES:Jubilee2025,Main Events
ATTACH;FMTTYPE=image/jpeg:https://www.camdendiocese.org/wp-content/uploads/2024/11/JUBILEE_2025_FEATURED_IMAGE-e1735584125290.jpg
END:VEVENT
BEGIN:VEVENT
DTSTART;TZID=America/New_York:20241224T180000
DTEND;TZID=America/New_York:20241224T190000
DTSTAMP:20260420T013450
CREATED:20241216T180358Z
LAST-MODIFIED:20241218T132835Z
UID:57754-1735063200-1735066800@www.camdendiocese.org
SUMMARY:Bishop Sullivan celebrates Christmas Vigil Mass
DESCRIPTION:All are welcome to join Bishop Dennis Sullivan as he celebrates the Vigil Mass for Christmas at 6 p.m. at Incarnation Parish\, Mantua. \n 
URL:https://www.camdendiocese.org/event/bishop-sullivan-celebrates-christmas-vigil-mass/
LOCATION:Incarnation Parish\, 240 Main Street\, Mantua
CATEGORIES:Main Events,Office of Life and Justice Ministries
ATTACH;FMTTYPE=image/jpeg:https://www.camdendiocese.org/wp-content/uploads/2021/12/Bishop-Christmas-Vigil-e1640030498548.jpg
END:VEVENT
BEGIN:VEVENT
DTSTART;TZID=America/New_York:20241214T080000
DTEND;TZID=America/New_York:20241214T120000
DTSTAMP:20260420T013450
CREATED:20241120T041302Z
LAST-MODIFIED:20241120T041605Z
UID:57266-1734163200-1734177600@www.camdendiocese.org
SUMMARY:Extraordinary Minister of Holy Communion Training
DESCRIPTION:EXTRAORDINARY MINISTER OF HOLY COMMUNION\nCost: $50\, Both in-person sessions are required for certification\nDate: Saturday December 14\, 2024\nTime: 8 am-noon\nLocation: Saint Padre Pio Parish\, Rosary Hall\n4680 Dante Avenue Vineland\, NJ \nMinister of Holy Communion 12.14.24
URL:https://www.camdendiocese.org/event/extraordinary-minister-of-holy-communion-training-12-14-24/
CATEGORIES:Main Events
ATTACH;FMTTYPE=image/jpeg:https://www.camdendiocese.org/wp-content/uploads/2022/02/DOC-Camden_Diocesan_Seal_for-WEB.jpg
END:VEVENT
BEGIN:VEVENT
DTSTART;TZID=America/New_York:20241213T083000
DTEND;TZID=America/New_York:20241213T100000
DTSTAMP:20260420T013450
CREATED:20241119T200048Z
LAST-MODIFIED:20241205T185315Z
UID:57241-1734078600-1734084000@www.camdendiocese.org
SUMMARY:Catholic Business Network Meeting 12-13-24
DESCRIPTION:REGISTER HERE\nThe Catholic Business Network will hold its next in-person meeting on Friday\, December 13\, 2024 \nAcutis Retreat Center on Camden Catholic High School Campus\, 300 Cuthbert Boulevard\, Cherry Hill\, NJ 08002 \nAll business professionals are welcome to this event! \nPrayer – Mass at 8:30 AM in the Acutis Retreat Center \nWELCOME & INTRODUCTIONS – Catholic Business Network President Jeff Morris. \nBreakfast: 9 AM \nAs we enjoy the Advent season\, this festive meeting will include: \n\nChristmas Carols by select members of Camden Catholic High School choir\nNetworking\nNew unwrapped toy collection for Sacred Heart Parish\, Camden\, Christmas Toy Drive. Ethnic dolls are appreciated.
URL:https://www.camdendiocese.org/event/catholic-business-network-meeting-12-13-24/
LOCATION:Camden Catholic High School\, 300 Cuthbert Blvd.\, Cherry Hill\, NJ
CATEGORIES:Main Events
ATTACH;FMTTYPE=image/jpeg:https://www.camdendiocese.org/wp-content/uploads/2018/10/CBN-NEW-LOGO-1-e1730747727923.jpg
END:VEVENT
BEGIN:VEVENT
DTSTART;TZID=America/New_York:20241211T180000
DTEND;TZID=America/New_York:20241211T210000
DTSTAMP:20260420T013450
CREATED:20241204T191437Z
LAST-MODIFIED:20241204T195654Z
UID:57574-1733940000-1733950800@www.camdendiocese.org
SUMMARY:Immigrant Rights Workshop at Mastery School
DESCRIPTION:Please  join the Immigrant Rights Workshop at Mastery School\, 800 Erie Street\, Camden\, NJ 08102 on Wednesday\, December 11th at 6 p.m. \nShare your experiences and concerns from immigrant communities in NJ. Learn about your rights\, local resources and available support. \nContact Jose at jose@immschools.org \nPlease see calendar on the Diocese of Camden Life & Justice website for further information.  https://camdendiocese.org/ljm/ \n  \nKYR and FLAN Meeting FLYER
URL:https://www.camdendiocese.org/event/immigrant-rights-workshop-at-mastery-school/
LOCATION:Mastery School\, 800 Erie Street\, Camden\, NJ\, 08102
CATEGORIES:Office of Life and Justice Ministries
ATTACH;FMTTYPE=image/jpeg:https://www.camdendiocese.org/wp-content/uploads/2024/09/LNJ_FEATURED_IMAGE.jpg
END:VEVENT
BEGIN:VEVENT
DTSTART;TZID=America/New_York:20241211T110000
DTEND;TZID=America/New_York:20241211T190000
DTSTAMP:20260420T013450
CREATED:20241204T192357Z
LAST-MODIFIED:20241204T193103Z
UID:57602-1733914800-1733943600@www.camdendiocese.org
SUMMARY:Employment Authorization Assistance Clinics
DESCRIPTION:The Office of New Americans in collaboration with the Camden Center for Law and Social Justice will be hosting a clinic on Employment Authorization Documents (EAD) on Wednesday December 11th from 11 a.m. to 7 p.m. at the Cathedral of the Immaculate Conception Parish Hall\, 642 Market Street\, Camden NJ 08102. Please see calendar on the Diocese of Camden Life & Justice website for further information.  https://camdendiocese.org/ljm/ \n  \nEAD_Clinics Flyer_v1
URL:https://www.camdendiocese.org/event/employment-authorization-assistance-clinics/
LOCATION:Cathedral of the Immaculate Conception\, 642 Market Street\, Camden\, NJ
CATEGORIES:Office of Life and Justice Ministries
ATTACH;FMTTYPE=image/jpeg:https://www.camdendiocese.org/wp-content/uploads/2024/09/LNJ_FEATURED_IMAGE.jpg
END:VEVENT
BEGIN:VEVENT
DTSTART;TZID=America/New_York:20241210T190000
DTEND;TZID=America/New_York:20241210T210000
DTSTAMP:20260420T013450
CREATED:20241120T042625Z
LAST-MODIFIED:20241120T042653Z
UID:57275-1733857200-1733864400@www.camdendiocese.org
SUMMARY:Youth Lector Training
DESCRIPTION:APPLICATION FOR YOUTH LECTOR\n\nBoth in-person sessions are required for certification\nCost: $50 for both sessions \nTuesday\, December 3\n7 – 9 p.m. \nOur Lady of Hope Parish\, Parish Office Conference Room\n701 Little Gloucester Road\, Blackwood \nTuesday\, December 10\n7 – 9 p.m. \nOur Lady of Hope Parish\, Saint Agnes Church\n701 Little Gloucester Road\, Blackwood \n  \nRegistration for High School Youth Lector Training 12.3.24
URL:https://www.camdendiocese.org/event/youth-lector-training-12-03-24-and-12-10-24/2024-12-10/
LOCATION:Our Lady of Hope Parish\, St. Agnes Church\, 701 Little Gloucester Rd.\, Blackwood\, NJ
CATEGORIES:Main Events,Office of Life and Justice Ministries
ATTACH;FMTTYPE=image/jpeg:https://www.camdendiocese.org/wp-content/uploads/2022/02/DOC-Camden_Diocesan_Seal_for-WEB.jpg
END:VEVENT
BEGIN:VEVENT
DTSTART;TZID=America/New_York:20241209T120500
DTEND;TZID=America/New_York:20241209T130000
DTSTAMP:20260420T013450
CREATED:20241126T031641Z
LAST-MODIFIED:20241126T031724Z
UID:57379-1733745900-1733749200@www.camdendiocese.org
SUMMARY:Bishop Sullivan\, Coadjutor Bishop Williams celebrate Immaculate Conception Mass
DESCRIPTION:
URL:https://www.camdendiocese.org/event/bishop-sullivan-coadjutor-bishop-williams-celebrate-immaculate-conception-mass-12-09-24/
LOCATION:Cathedral of the Immaculate Conception\, 642 Market Street\, Camden\, NJ
CATEGORIES:Main Events,Office of Life and Justice Ministries
ATTACH;FMTTYPE=image/jpeg:https://www.camdendiocese.org/wp-content/uploads/2019/10/CNS-IMMACULATE-CONCEPTION-HOLY-DAY-2.jpg
END:VEVENT
BEGIN:VEVENT
DTSTART;TZID=America/New_York:20241203T190000
DTEND;TZID=America/New_York:20241203T210000
DTSTAMP:20260420T013450
CREATED:20241120T042625Z
LAST-MODIFIED:20241120T042653Z
UID:57274-1733252400-1733259600@www.camdendiocese.org
SUMMARY:Youth Lector Training
DESCRIPTION:APPLICATION FOR YOUTH LECTOR\n\nBoth in-person sessions are required for certification\nCost: $50 for both sessions \nTuesday\, December 3\n7 – 9 p.m. \nOur Lady of Hope Parish\, Parish Office Conference Room\n701 Little Gloucester Road\, Blackwood \nTuesday\, December 10\n7 – 9 p.m. \nOur Lady of Hope Parish\, Saint Agnes Church\n701 Little Gloucester Road\, Blackwood \n  \nRegistration for High School Youth Lector Training 12.3.24
URL:https://www.camdendiocese.org/event/youth-lector-training-12-03-24-and-12-10-24/2024-12-03/
LOCATION:Our Lady of Hope Parish\, St. Agnes Church\, 701 Little Gloucester Rd.\, Blackwood\, NJ
CATEGORIES:Main Events,Office of Life and Justice Ministries
ATTACH;FMTTYPE=image/jpeg:https://www.camdendiocese.org/wp-content/uploads/2022/02/DOC-Camden_Diocesan_Seal_for-WEB.jpg
END:VEVENT
BEGIN:VEVENT
DTSTART;TZID=America/New_York:20241124T080000
DTEND;TZID=America/New_York:20241124T170000
DTSTAMP:20260420T013450
CREATED:20240918T182354Z
LAST-MODIFIED:20241023T151319Z
UID:56360-1732435200-1732467600@www.camdendiocese.org
SUMMARY:Fair Trade Holiday Sale
DESCRIPTION:  \n  \nFAIR TRADE HOLIDAY SALE \nGive the gift that keeps on giving: shop Fair Trade this holiday season! Your purchase empowers artisans to receive a fair wage for their work. \nChrist Our Light Catholic Church\, 402 Kings Hwy N\, Cherry Hill\nParish Center Gym \n 
URL:https://www.camdendiocese.org/event/fair-trade-holiday-sale-2024/2024-11-24/
LOCATION:Christ Our Light Parish\, 402 North Kings Highway\, Cherry Hill\, NJ
CATEGORIES:Main Events,Office of Life and Justice Ministries
ATTACH;FMTTYPE=image/jpeg:https://www.camdendiocese.org/wp-content/uploads/2024/04/LJM_FEATURED_IMAGE_DEFAULT.jpg
END:VEVENT
BEGIN:VEVENT
DTSTART;TZID=America/New_York:20241123T090000
DTEND;TZID=America/New_York:20241123T130000
DTSTAMP:20260420T013450
CREATED:20240919T184446Z
LAST-MODIFIED:20240919T184540Z
UID:56412-1732352400-1732366800@www.camdendiocese.org
SUMMARY:St. Damien Parish Annual Solidarity Market
DESCRIPTION:  \nSt. Damien Parish 2nd Annual Solidarity Market \n9:00 AM-1:00 PM \nSt. Damien Parish Center\, 1337 Asbury Avenue\, Ocean City
URL:https://www.camdendiocese.org/event/st-damien-parish-annual-solidarity-market-2024/
CATEGORIES:Office of Life and Justice Ministries
ATTACH;FMTTYPE=image/jpeg:https://www.camdendiocese.org/wp-content/uploads/2024/05/Lfe-and-Justice-Ministries-web-logo-24-1-scaled-e1714591026204.jpg
END:VEVENT
BEGIN:VEVENT
DTSTART;TZID=America/New_York:20241123T080000
DTEND;TZID=America/New_York:20241123T170000
DTSTAMP:20260420T013450
CREATED:20240918T182354Z
LAST-MODIFIED:20241023T151319Z
UID:56359-1732348800-1732381200@www.camdendiocese.org
SUMMARY:Fair Trade Holiday Sale
DESCRIPTION:  \n  \nFAIR TRADE HOLIDAY SALE \nGive the gift that keeps on giving: shop Fair Trade this holiday season! Your purchase empowers artisans to receive a fair wage for their work. \nChrist Our Light Catholic Church\, 402 Kings Hwy N\, Cherry Hill\nParish Center Gym \n 
URL:https://www.camdendiocese.org/event/fair-trade-holiday-sale-2024/2024-11-23/
LOCATION:Christ Our Light Parish\, 402 North Kings Highway\, Cherry Hill\, NJ
CATEGORIES:Main Events,Office of Life and Justice Ministries
ATTACH;FMTTYPE=image/jpeg:https://www.camdendiocese.org/wp-content/uploads/2024/04/LJM_FEATURED_IMAGE_DEFAULT.jpg
END:VEVENT
BEGIN:VEVENT
DTSTART;TZID=America/New_York:20241120T190000
DTEND;TZID=America/New_York:20241120T210000
DTSTAMP:20260420T013450
CREATED:20241017T174918Z
LAST-MODIFIED:20241023T151208Z
UID:56899-1732129200-1732136400@www.camdendiocese.org
SUMMARY:Minister of Holy Communion Training
DESCRIPTION:Dates: November 13 and 20\nTime: 7 pm-9 pm\nLocation: Our Lady of Hope Parish\, Parish Center\, Saint John Room\n701 Little Gloucester Road Blackwood\, NJ \nCost: $50\, Both in-person sessions are required for certification \n  \nExtraordinary Minister of Holy Communion Training 11.13.24
URL:https://www.camdendiocese.org/event/minister-of-holy-communion-training-11-13-and-11-20/2024-11-20/
LOCATION:Our Lady of Hope Parish\, St. Agnes Church\, 701 Little Gloucester Rd.\, Blackwood\, NJ
CATEGORIES:Main Events
ATTACH;FMTTYPE=image/jpeg:https://www.camdendiocese.org/wp-content/uploads/2024/02/DOC_FEATURED_IMAGE_DEFAULT_VERSION_1.jpg
END:VEVENT
BEGIN:VEVENT
DTSTART;TZID=America/New_York:20241115T083000
DTEND;TZID=America/New_York:20241115T100000
DTSTAMP:20260420T013450
CREATED:20241023T152435Z
LAST-MODIFIED:20241104T192421Z
UID:56942-1731659400-1731664800@www.camdendiocese.org
SUMMARY:Catholic Business Network Meeting 11-15-24
DESCRIPTION:Register Here\nThe Catholic Business Network will hold its next in-person meeting on Friday\, November 15\, 2024 – All business professionals are welcome to this event! \nWhere St. Bartholomew Church of Sacred Heart Parish\, 751 Kaighns Avenue\, Camden\, NJ 08103 \nPrayer – Mass at 8:15 AM in St. Bartholomew Church of Sacred Heart Parish\, \nWELCOME & INTRODUCTIONS – Catholic Business Network President Jeff Morris. \nBreakfast: 8:30 AM \nSPEAKER: Representatives from the Black Catholic Ministry
URL:https://www.camdendiocese.org/event/catholic-business-network-meeting-11-15-24/
LOCATION:St. Bartholomew Church of Sacred Heart Parish\, 751 Kaighns Ave.\, Camden\, NJ\, 08103
CATEGORIES:Main Events
ATTACH;FMTTYPE=image/jpeg:https://www.camdendiocese.org/wp-content/uploads/2018/10/CBN-NEW-LOGO-1-e1730747727923.jpg
END:VEVENT
END:VCALENDAR