BEGIN:VCALENDAR
VERSION:2.0
PRODID:-//Diocese of Camden - ECPv6.15.20//NONSGML v1.0//EN
CALSCALE:GREGORIAN
METHOD:PUBLISH
X-ORIGINAL-URL:https://www.camdendiocese.org
X-WR-CALDESC:Events for Diocese of Camden
REFRESH-INTERVAL;VALUE=DURATION:PT1H
X-Robots-Tag:noindex
X-PUBLISHED-TTL:PT1H
BEGIN:VTIMEZONE
TZID:America/New_York
BEGIN:DAYLIGHT
TZOFFSETFROM:-0500
TZOFFSETTO:-0400
TZNAME:EDT
DTSTART:20240310T070000
END:DAYLIGHT
BEGIN:STANDARD
TZOFFSETFROM:-0400
TZOFFSETTO:-0500
TZNAME:EST
DTSTART:20241103T060000
END:STANDARD
BEGIN:DAYLIGHT
TZOFFSETFROM:-0500
TZOFFSETTO:-0400
TZNAME:EDT
DTSTART:20250309T070000
END:DAYLIGHT
BEGIN:STANDARD
TZOFFSETFROM:-0400
TZOFFSETTO:-0500
TZNAME:EST
DTSTART:20251102T060000
END:STANDARD
BEGIN:DAYLIGHT
TZOFFSETFROM:-0500
TZOFFSETTO:-0400
TZNAME:EDT
DTSTART:20260308T070000
END:DAYLIGHT
BEGIN:STANDARD
TZOFFSETFROM:-0400
TZOFFSETTO:-0500
TZNAME:EST
DTSTART:20261101T060000
END:STANDARD
END:VTIMEZONE
BEGIN:VEVENT
DTSTART;TZID=America/New_York:20250428T190000
DTEND;TZID=America/New_York:20250428T200000
DTSTAMP:20260419T125953
CREATED:20250319T022632Z
LAST-MODIFIED:20250319T022731Z
UID:59640-1745866800-1745870400@www.camdendiocese.org
SUMMARY:Mass of Remembrance and Healing for loss of a child
DESCRIPTION:Mass of Remembrance & Healing at Christ the King Church on April 28\, 2025\, at 7:00 PM. \n  \nThis Mass is for families who have experienced the loss of a child in utero\, infancy\, or early childhood.
URL:https://www.camdendiocese.org/event/mass-of-remembrance-and-healing-4-28-25/
LOCATION:Christ the King Parish\, 200 Windsor Ave.\, Haddonfield\, NJ\, 08033
CATEGORIES:Main Events,Office of Life and Justice Ministries
ATTACH;FMTTYPE=image/png:https://www.camdendiocese.org/wp-content/uploads/2025/03/Mass-of-Healing-Loss-of-Child-graphic-web.png
END:VEVENT
BEGIN:VEVENT
DTSTART;TZID=America/New_York:20250426T090000
DTEND;TZID=America/New_York:20250426T130000
DTSTAMP:20260419T125953
CREATED:20250220T024123Z
LAST-MODIFIED:20250220T024123Z
UID:58959-1745658000-1745672400@www.camdendiocese.org
SUMMARY:Intergenerational Jubilee 2025 Pilgrimage Walk
DESCRIPTION:
URL:https://www.camdendiocese.org/event/intergenerational-jubilee-2025-pilgrimage-walk/
CATEGORIES:Jubilee2025,Main Events
ATTACH;FMTTYPE=image/jpeg:https://www.camdendiocese.org/wp-content/uploads/2021/10/Vitality_Logo_web.jpg
END:VEVENT
BEGIN:VEVENT
DTSTART;VALUE=DATE:20250426
DTEND;VALUE=DATE:20250505
DTSTAMP:20260419T125953
CREATED:20250425T005403Z
LAST-MODIFIED:20250425T005918Z
UID:60528-1745625600-1746403199@www.camdendiocese.org
SUMMARY:Novena in Memory of Pope Francis
DESCRIPTION:The entire Church mourns the death of our Holy Father\, Pope Francis. In cathedrals\, basilicas\, parish churches\, shrines\, and chapels\, the Holy Eucharist will be offered for the repose of his soul. Communities and individuals will ask God to bestow his infinite mercy on the man who served the Church as Bishop of Rome. \n\n\n \nThis novena has been prepared to help pray for the Pope during this time. \n\n\n \nThe daily novena\, beginning April 26\, consists of a short reading from Scripture or some other ecclesiastical text and some brief prayers\, including orations drawn from the Roman Missal and the Order of Christian Funerals. \n  \nNINE DAY NOVENANovena en Memoria del Papa Francisco\n 
URL:https://www.camdendiocese.org/event/novena-in-memory-of-pope-francis/2025-04-26/
CATEGORIES:Main Events
ATTACH;FMTTYPE=image/png:https://www.camdendiocese.org/wp-content/uploads/2025/04/Novena_Pope_Francis-web-image-1.png
END:VEVENT
BEGIN:VEVENT
DTSTART;VALUE=DATE:20250425
DTEND;VALUE=DATE:20250428
DTSTAMP:20260419T125953
CREATED:20250326T184046Z
LAST-MODIFIED:20250326T184447Z
UID:59784-1745539200-1745798399@www.camdendiocese.org
SUMMARY:Deaf Catholic Retreat Weekend
DESCRIPTION:
URL:https://www.camdendiocese.org/event/deaf-catholic-retreat-weekend/2025-04-25/
LOCATION:Villa Maria by the Sea\, 101 111th St\, Stone Harbor
CATEGORIES:Jubilee2025,Main Events
ATTACH;FMTTYPE=image/jpeg:https://www.camdendiocese.org/wp-content/uploads/2021/10/Vitality_Logo_web.jpg
END:VEVENT
BEGIN:VEVENT
DTSTART;TZID=America/New_York:20250423T190000
DTEND;TZID=America/New_York:20250423T200000
DTSTAMP:20260419T125953
CREATED:20250408T194855Z
LAST-MODIFIED:20250408T195006Z
UID:60122-1745434800-1745438400@www.camdendiocese.org
SUMMARY:An Evening with the Prophet Jonah _virtual event
DESCRIPTION:The Office of Life & Justice Ministries Presents \nAn Evening with the Prophet Jonah: \nA Story of Resurrection\, Expectations\, and Hope \nApril 23rd \n7 – 8 p.m. \nThe evening\, led by Dr. Kyle Thompson\, a Catholic educator\, theologian\, and biblical scholar on the theme of “hope\, ” will begin with prayer\, followed by a presentation and discussion. \nThis is a FREE\, Virtual Event \nThe prophet Jonah went to Nineveh and preached repentance to his enemies. Then\, the worst possible thing that Jonah could imagine happened—Nineveh repented\, and God relented. \nSince this is a virtual event\, please use this QR code to register or email Michael.Sims@camdendiocese.org to receive a link for the evening. If you have questions\, please call Michael Sims\, Director of Life & Justice Ministries. \n 856 -583-2910 \nClick here for info and QR code for free registration: \nThe Prophet Jonah A Story of Resurrection\, Expectations and Hope 4.23.25 Virtual event
URL:https://www.camdendiocese.org/event/an-evening-with-the-prophet-jonah/
CATEGORIES:Office of Life and Justice Ministries
ATTACH;FMTTYPE=image/jpeg:https://www.camdendiocese.org/wp-content/uploads/2024/05/Lfe-and-Justice-Ministries-web-logo-24-1-scaled-e1714591026204.jpg
END:VEVENT
BEGIN:VEVENT
DTSTART;TZID=America/New_York:20250423T120000
DTEND;TZID=America/New_York:20250423T120000
DTSTAMP:20260419T125953
CREATED:20250421T154656Z
LAST-MODIFIED:20250421T194208Z
UID:60383-1745409600-1745409600@www.camdendiocese.org
SUMMARY:Bishop Williams to celebrate Mass for the repose of the soul of Pope Francis
DESCRIPTION:Bishop Joseph Williams will celebrate a Mass for the repose of the soul of Pope Francis on Wednesday\, April 23 at 12:05 PM in the Cathedral of the Immaculate Conception\, Camden. \nAll are welcome to attend Mass in memorial and prayer for Pope Francis. \nAlso\, watch the livestream:facebook.com/CamdenDiocese;YouTube.com/camdendioceseCatholicStarHerald.org \n 
URL:https://www.camdendiocese.org/event/bishop-to-celebrate-mass-for-the-repose-of-the-soul-of-pope-francis/
LOCATION:Cathedral of the Immaculate Conception\, 642 Market Street\, Camden\, NJ
CATEGORIES:Main Events,Office of Life and Justice Ministries
ATTACH;FMTTYPE=image/jpeg:https://www.camdendiocese.org/wp-content/uploads/2025/04/20250423_PopeFrancisMass_-web.jpg
END:VEVENT
BEGIN:VEVENT
DTSTART;TZID=America/New_York:20250420T103000
DTEND;TZID=America/New_York:20250420T113000
DTSTAMP:20260419T125953
CREATED:20250409T021309Z
LAST-MODIFIED:20250409T022011Z
UID:60178-1745145000-1745148600@www.camdendiocese.org
SUMMARY:Bishop Williams to celebrate Easter Sunday Mass
DESCRIPTION:All are welcome to join Bishop Joseph Williams for Mass on Easter Sunday!\n\nEaster\, the greatest and oldest Christian feast\, commemorates the Resurrection of Christ from the dead. The observance of this mystery extends through the Easter season\, which lasts until the Feast of Pentecost\, a period of 50 days.
URL:https://www.camdendiocese.org/event/bishop-williams-to-celebrate-easter-sunday-mass/
LOCATION:Catholic Community of the Holy Spirit\, 17 Earlington Ave\, Mullica Hill\, NJ
CATEGORIES:Main Events
ATTACH;FMTTYPE=image/jpeg:https://www.camdendiocese.org/wp-content/uploads/2025/04/B9_EasterSunday.jpg
END:VEVENT
BEGIN:VEVENT
DTSTART;TZID=America/New_York:20250419T190000
DTEND;TZID=America/New_York:20250419T203000
DTSTAMP:20260419T125953
CREATED:20250409T021103Z
LAST-MODIFIED:20250409T021938Z
UID:60176-1745089200-1745094600@www.camdendiocese.org
SUMMARY:Easter Vigil with Bishop Williams
DESCRIPTION:At this Mass\, adult catechumens (those preparing for Baptism) receive the Sacraments of Christian Initiation (Baptism\, Confirmation and Holy Eucharist) during the liturgy.\nThe Mass will be Bilingual English and Spanish.
URL:https://www.camdendiocese.org/event/easter-vigil-with-bishop-williams/
LOCATION:Cathedral of the Immaculate Conception\, 642 Market Street\, Camden\, NJ
CATEGORIES:Main Events
ATTACH;FMTTYPE=image/jpeg:https://www.camdendiocese.org/wp-content/uploads/2025/04/B9_EasterVigil.jpg
END:VEVENT
BEGIN:VEVENT
DTSTART;TZID=America/New_York:20250418T190000
DTEND;TZID=America/New_York:20250418T200000
DTSTAMP:20260419T125953
CREATED:20250409T020904Z
LAST-MODIFIED:20250409T021548Z
UID:60173-1745002800-1745006400@www.camdendiocese.org
SUMMARY:Outdoor Stations of the Cross with Bishop Williams
DESCRIPTION:
URL:https://www.camdendiocese.org/event/outdoor-stations-of-the-cross-with-bishop-williams/
LOCATION:Christ the Redeemer Parish\, 318 Carl Hasselhan Dr\, Atco
CATEGORIES:Main Events
ATTACH;FMTTYPE=image/jpeg:https://www.camdendiocese.org/wp-content/uploads/2025/04/B9_GoodFriday.jpg
END:VEVENT
BEGIN:VEVENT
DTSTART;TZID=America/New_York:20250418T150000
DTEND;TZID=America/New_York:20250418T163000
DTSTAMP:20260419T125953
CREATED:20250409T020741Z
LAST-MODIFIED:20250409T020936Z
UID:60170-1744988400-1744993800@www.camdendiocese.org
SUMMARY:Viernes Santo con el obispo Williams
DESCRIPTION:
URL:https://www.camdendiocese.org/event/viernes-santo-con-el-obispo-williams/
LOCATION:Saint Jude Spanish Apostolate\, 402 South Black Horse Pike\, Blackwood
CATEGORIES:Main Events
ATTACH;FMTTYPE=image/jpeg:https://www.camdendiocese.org/wp-content/uploads/2025/04/B9_GoodFriday_Spanish.jpg
END:VEVENT
BEGIN:VEVENT
DTSTART;TZID=America/New_York:20250417T190000
DTEND;TZID=America/New_York:20250417T203000
DTSTAMP:20260419T125953
CREATED:20250409T020301Z
LAST-MODIFIED:20250409T020301Z
UID:60165-1744916400-1744921800@www.camdendiocese.org
SUMMARY:Holy Thursday with Bishop Williams
DESCRIPTION:
URL:https://www.camdendiocese.org/event/holy-thursday-with-bishop-williams/
LOCATION:Saint Katharine Drexel Parish\, 6075 West Jersey Ave\, Egg Harbor Twp
CATEGORIES:Main Events
ATTACH;FMTTYPE=image/jpeg:https://www.camdendiocese.org/wp-content/uploads/2025/04/B9_HolyThursday.jpg
END:VEVENT
BEGIN:VEVENT
DTSTART;TZID=America/New_York:20250416T183000
DTEND;TZID=America/New_York:20250416T200000
DTSTAMP:20260419T125953
CREATED:20250225T022748Z
LAST-MODIFIED:20250225T022748Z
UID:59019-1744828200-1744833600@www.camdendiocese.org
SUMMARY:Catholic Charities Recovery Stations of the Cross Incarnation Parish
DESCRIPTION:
URL:https://www.camdendiocese.org/event/catholic-charities-recovery-stations-of-the-cross-incarnation-parish/2025-04-16/
LOCATION:Incarnation Parish\, 240 Main Street\, Mantua
CATEGORIES:Jubilee2025,Main Events
ATTACH;FMTTYPE=image/png:https://www.camdendiocese.org/wp-content/uploads/2025/02/Catholic-Charities-Recovery-Stations-of-the-Cross-WEB-e1739987176794.png
END:VEVENT
BEGIN:VEVENT
DTSTART;TZID=America/New_York:20250415T153000
DTEND;TZID=America/New_York:20250415T170000
DTSTAMP:20260419T125953
CREATED:20250326T025322Z
LAST-MODIFIED:20250326T031816Z
UID:59742-1744731000-1744736400@www.camdendiocese.org
SUMMARY:Bishop Williams to celebrate Chrism Mass
DESCRIPTION:
URL:https://www.camdendiocese.org/event/bishop-williams-to-celebrate-chrism-mass-4-15-25/
LOCATION:Our Lady of Hope Parish\, St. Agnes Church\, 701 Little Gloucester Rd.\, Blackwood\, NJ
CATEGORIES:Main Events
ATTACH;FMTTYPE=image/jpeg:https://www.camdendiocese.org/wp-content/uploads/2025/03/Chrism-oils-on-table-web.jpg
END:VEVENT
BEGIN:VEVENT
DTSTART;TZID=America/New_York:20250415T100000
DTEND;TZID=America/New_York:20250415T110000
DTSTAMP:20260419T125953
CREATED:20250326T192310Z
LAST-MODIFIED:20250402T004737Z
UID:59792-1744711200-1744714800@www.camdendiocese.org
SUMMARY:Holy Week Masses at SJ Catholic Cemeteries
DESCRIPTION:  \nAll are welcome to Lenten Masses in this Jubilee Year in our Chapel Mausoleums!\nClick here for info \n  \n  \n \n  \n  \n 
URL:https://www.camdendiocese.org/event/holy-week-masses-at-sj-catholic-cemeteries/2025-04-15/
CATEGORIES:Jubilee2025,Main Events
ATTACH;FMTTYPE=image/jpeg:https://www.camdendiocese.org/wp-content/uploads/2016/09/SJCC_Logo_600-1-1.jpg
END:VEVENT
BEGIN:VEVENT
DTSTART;TZID=America/New_York:20250414T100000
DTEND;TZID=America/New_York:20250414T110000
DTSTAMP:20260419T125953
CREATED:20250326T192310Z
LAST-MODIFIED:20250402T004737Z
UID:59791-1744624800-1744628400@www.camdendiocese.org
SUMMARY:Holy Week Masses at SJ Catholic Cemeteries
DESCRIPTION:  \nAll are welcome to Lenten Masses in this Jubilee Year in our Chapel Mausoleums!\nClick here for info \n  \n  \n \n  \n  \n 
URL:https://www.camdendiocese.org/event/holy-week-masses-at-sj-catholic-cemeteries/2025-04-14/
CATEGORIES:Jubilee2025,Main Events
ATTACH;FMTTYPE=image/jpeg:https://www.camdendiocese.org/wp-content/uploads/2016/09/SJCC_Logo_600-1-1.jpg
END:VEVENT
BEGIN:VEVENT
DTSTART;TZID=America/New_York:20250413T110000
DTEND;TZID=America/New_York:20250413T120000
DTSTAMP:20260419T125953
CREATED:20250409T020019Z
LAST-MODIFIED:20250409T021710Z
UID:60162-1744542000-1744545600@www.camdendiocese.org
SUMMARY:Bishop Williams to celebrate Palm Sunday Mass
DESCRIPTION:To begin Holy Week\, the most solemn week in the Church’s liturgical year\, Bishop Joseph Williams will celebrate Palm Sunday Mass on April 13 at 11 a.m. at Saint Teresa of Calcutta Parish\, Saint John Church\, Collingswood. All are welcome!
URL:https://www.camdendiocese.org/event/bishop-williams-to-celebrate-palm-sunday-mass/
LOCATION:Saint John Church\, Saint Teresa of Calcutta Parish\,\, 809 Park Ave.\,\, Collingswood\, United States
CATEGORIES:Main Events
ATTACH;FMTTYPE=image/jpeg:https://www.camdendiocese.org/wp-content/uploads/2025/04/B9_PalmSunday.jpg
END:VEVENT
BEGIN:VEVENT
DTSTART;VALUE=DATE:20250413
DTEND;VALUE=DATE:20250414
DTSTAMP:20260419T125953
CREATED:20250225T175711Z
LAST-MODIFIED:20250225T175828Z
UID:59064-1744502400-1744588799@www.camdendiocese.org
SUMMARY:40 Days for Life
DESCRIPTION:  \n \n  \nLooking for something powerful to do for Lent this year?    Prayerful presence outside an abortion clinic has been proven to impact “no show” rates for abortion appointments up to 75%. \nThe Jubilee Year 2025 theme is Pilgrims of Hope.  Let us bring hope to mothers who may be facing desperate situations. \nJoin us for the Spring 40 Days for Life Campaign from March 5th until April 13th.\nGo to www.40daysforlife.com/cherryhill \nto sign up and pray peacefully that mothers will choose life. Ask your spouse or a friend to sign up with you! Our goal is to have two people praying peacefully Tuesday through Saturday\, 7 a.m. to 7 p.m. \nIf you have questions or concerns\, need a prayer partner\, or want to sign up by phone\, call/ text Claire at 856-313-9861. \n  \n 
URL:https://www.camdendiocese.org/event/40-days-for-life-lent-2025/2025-04-13/
CATEGORIES:Office of Life and Justice Ministries
ATTACH;FMTTYPE=image/png:https://www.camdendiocese.org/wp-content/uploads/2014/09/www.thelivingvine.org_Portals_0_Upcoming-Events_40Days.png
END:VEVENT
BEGIN:VEVENT
DTSTART;VALUE=DATE:20250412
DTEND;VALUE=DATE:20250413
DTSTAMP:20260419T125953
CREATED:20250225T175711Z
LAST-MODIFIED:20250225T175828Z
UID:59063-1744416000-1744502399@www.camdendiocese.org
SUMMARY:40 Days for Life
DESCRIPTION:  \n \n  \nLooking for something powerful to do for Lent this year?    Prayerful presence outside an abortion clinic has been proven to impact “no show” rates for abortion appointments up to 75%. \nThe Jubilee Year 2025 theme is Pilgrims of Hope.  Let us bring hope to mothers who may be facing desperate situations. \nJoin us for the Spring 40 Days for Life Campaign from March 5th until April 13th.\nGo to www.40daysforlife.com/cherryhill \nto sign up and pray peacefully that mothers will choose life. Ask your spouse or a friend to sign up with you! Our goal is to have two people praying peacefully Tuesday through Saturday\, 7 a.m. to 7 p.m. \nIf you have questions or concerns\, need a prayer partner\, or want to sign up by phone\, call/ text Claire at 856-313-9861. \n  \n 
URL:https://www.camdendiocese.org/event/40-days-for-life-lent-2025/2025-04-12/
CATEGORIES:Office of Life and Justice Ministries
ATTACH;FMTTYPE=image/png:https://www.camdendiocese.org/wp-content/uploads/2014/09/www.thelivingvine.org_Portals_0_Upcoming-Events_40Days.png
END:VEVENT
BEGIN:VEVENT
DTSTART;TZID=America/New_York:20250411T080000
DTEND;TZID=America/New_York:20250411T100000
DTSTAMP:20260419T125953
CREATED:20250320T191224Z
LAST-MODIFIED:20250402T004426Z
UID:59714-1744358400-1744365600@www.camdendiocese.org
SUMMARY:Catholic Business Network Meeting 04-11-25
DESCRIPTION:REGISTER HERE\nThe Catholic Business Network will hold an in-person meeting on Friday\, April 11\, 2025 \nat the Saint Andrew the Apostle Roman Catholic Church \n27 Kresson – Gibbsboro Rd\, Gibbsboro\, NJ 08026 \n* Please note this is the second Friday of the month due to Good Friday. \nAll business professionals are welcome to this event. \nMASS: 8 AM in Saint Andrew the Apostle Church \nWELCOME & INTRODUCTIONS: Catholic Business Network President Jeff Morris. \nBREAKFAST & NETWORKING: 8:30 AM\, Upper Room of the Parish Center \n 
URL:https://www.camdendiocese.org/event/catholic-business-network-meeting-04-11-25/
CATEGORIES:Main Events
ATTACH;FMTTYPE=image/jpeg:https://www.camdendiocese.org/wp-content/uploads/2018/10/CBN-NEW-LOGO-1-e1730747727923.jpg
END:VEVENT
BEGIN:VEVENT
DTSTART;VALUE=DATE:20250411
DTEND;VALUE=DATE:20250412
DTSTAMP:20260419T125953
CREATED:20250225T175711Z
LAST-MODIFIED:20250225T175828Z
UID:59062-1744329600-1744415999@www.camdendiocese.org
SUMMARY:40 Days for Life
DESCRIPTION:  \n \n  \nLooking for something powerful to do for Lent this year?    Prayerful presence outside an abortion clinic has been proven to impact “no show” rates for abortion appointments up to 75%. \nThe Jubilee Year 2025 theme is Pilgrims of Hope.  Let us bring hope to mothers who may be facing desperate situations. \nJoin us for the Spring 40 Days for Life Campaign from March 5th until April 13th.\nGo to www.40daysforlife.com/cherryhill \nto sign up and pray peacefully that mothers will choose life. Ask your spouse or a friend to sign up with you! Our goal is to have two people praying peacefully Tuesday through Saturday\, 7 a.m. to 7 p.m. \nIf you have questions or concerns\, need a prayer partner\, or want to sign up by phone\, call/ text Claire at 856-313-9861. \n  \n 
URL:https://www.camdendiocese.org/event/40-days-for-life-lent-2025/2025-04-11/
CATEGORIES:Office of Life and Justice Ministries
ATTACH;FMTTYPE=image/png:https://www.camdendiocese.org/wp-content/uploads/2014/09/www.thelivingvine.org_Portals_0_Upcoming-Events_40Days.png
END:VEVENT
BEGIN:VEVENT
DTSTART;VALUE=DATE:20250410
DTEND;VALUE=DATE:20250411
DTSTAMP:20260419T125953
CREATED:20250225T175711Z
LAST-MODIFIED:20250225T175828Z
UID:59061-1744243200-1744329599@www.camdendiocese.org
SUMMARY:40 Days for Life
DESCRIPTION:  \n \n  \nLooking for something powerful to do for Lent this year?    Prayerful presence outside an abortion clinic has been proven to impact “no show” rates for abortion appointments up to 75%. \nThe Jubilee Year 2025 theme is Pilgrims of Hope.  Let us bring hope to mothers who may be facing desperate situations. \nJoin us for the Spring 40 Days for Life Campaign from March 5th until April 13th.\nGo to www.40daysforlife.com/cherryhill \nto sign up and pray peacefully that mothers will choose life. Ask your spouse or a friend to sign up with you! Our goal is to have two people praying peacefully Tuesday through Saturday\, 7 a.m. to 7 p.m. \nIf you have questions or concerns\, need a prayer partner\, or want to sign up by phone\, call/ text Claire at 856-313-9861. \n  \n 
URL:https://www.camdendiocese.org/event/40-days-for-life-lent-2025/2025-04-10/
CATEGORIES:Office of Life and Justice Ministries
ATTACH;FMTTYPE=image/png:https://www.camdendiocese.org/wp-content/uploads/2014/09/www.thelivingvine.org_Portals_0_Upcoming-Events_40Days.png
END:VEVENT
BEGIN:VEVENT
DTSTART;TZID=America/New_York:20250409T183000
DTEND;TZID=America/New_York:20250409T200000
DTSTAMP:20260419T125953
CREATED:20250225T022748Z
LAST-MODIFIED:20250225T022748Z
UID:59018-1744223400-1744228800@www.camdendiocese.org
SUMMARY:Catholic Charities Recovery Stations of the Cross Incarnation Parish
DESCRIPTION:
URL:https://www.camdendiocese.org/event/catholic-charities-recovery-stations-of-the-cross-incarnation-parish/2025-04-09/
LOCATION:Incarnation Parish\, 240 Main Street\, Mantua
CATEGORIES:Jubilee2025,Main Events
ATTACH;FMTTYPE=image/png:https://www.camdendiocese.org/wp-content/uploads/2025/02/Catholic-Charities-Recovery-Stations-of-the-Cross-WEB-e1739987176794.png
END:VEVENT
BEGIN:VEVENT
DTSTART;VALUE=DATE:20250409
DTEND;VALUE=DATE:20250410
DTSTAMP:20260419T125953
CREATED:20250225T175711Z
LAST-MODIFIED:20250225T175828Z
UID:59060-1744156800-1744243199@www.camdendiocese.org
SUMMARY:40 Days for Life
DESCRIPTION:  \n \n  \nLooking for something powerful to do for Lent this year?    Prayerful presence outside an abortion clinic has been proven to impact “no show” rates for abortion appointments up to 75%. \nThe Jubilee Year 2025 theme is Pilgrims of Hope.  Let us bring hope to mothers who may be facing desperate situations. \nJoin us for the Spring 40 Days for Life Campaign from March 5th until April 13th.\nGo to www.40daysforlife.com/cherryhill \nto sign up and pray peacefully that mothers will choose life. Ask your spouse or a friend to sign up with you! Our goal is to have two people praying peacefully Tuesday through Saturday\, 7 a.m. to 7 p.m. \nIf you have questions or concerns\, need a prayer partner\, or want to sign up by phone\, call/ text Claire at 856-313-9861. \n  \n 
URL:https://www.camdendiocese.org/event/40-days-for-life-lent-2025/2025-04-09/
CATEGORIES:Office of Life and Justice Ministries
ATTACH;FMTTYPE=image/png:https://www.camdendiocese.org/wp-content/uploads/2014/09/www.thelivingvine.org_Portals_0_Upcoming-Events_40Days.png
END:VEVENT
BEGIN:VEVENT
DTSTART;VALUE=DATE:20250408
DTEND;VALUE=DATE:20250409
DTSTAMP:20260419T125953
CREATED:20250225T175711Z
LAST-MODIFIED:20250225T175827Z
UID:59059-1744070400-1744156799@www.camdendiocese.org
SUMMARY:40 Days for Life
DESCRIPTION:  \n \n  \nLooking for something powerful to do for Lent this year?    Prayerful presence outside an abortion clinic has been proven to impact “no show” rates for abortion appointments up to 75%. \nThe Jubilee Year 2025 theme is Pilgrims of Hope.  Let us bring hope to mothers who may be facing desperate situations. \nJoin us for the Spring 40 Days for Life Campaign from March 5th until April 13th.\nGo to www.40daysforlife.com/cherryhill \nto sign up and pray peacefully that mothers will choose life. Ask your spouse or a friend to sign up with you! Our goal is to have two people praying peacefully Tuesday through Saturday\, 7 a.m. to 7 p.m. \nIf you have questions or concerns\, need a prayer partner\, or want to sign up by phone\, call/ text Claire at 856-313-9861. \n  \n 
URL:https://www.camdendiocese.org/event/40-days-for-life-lent-2025/2025-04-08/
CATEGORIES:Office of Life and Justice Ministries
ATTACH;FMTTYPE=image/png:https://www.camdendiocese.org/wp-content/uploads/2014/09/www.thelivingvine.org_Portals_0_Upcoming-Events_40Days.png
END:VEVENT
BEGIN:VEVENT
DTSTART;VALUE=DATE:20250407
DTEND;VALUE=DATE:20250408
DTSTAMP:20260419T125953
CREATED:20250225T175711Z
LAST-MODIFIED:20250225T175827Z
UID:59058-1743984000-1744070399@www.camdendiocese.org
SUMMARY:40 Days for Life
DESCRIPTION:  \n \n  \nLooking for something powerful to do for Lent this year?    Prayerful presence outside an abortion clinic has been proven to impact “no show” rates for abortion appointments up to 75%. \nThe Jubilee Year 2025 theme is Pilgrims of Hope.  Let us bring hope to mothers who may be facing desperate situations. \nJoin us for the Spring 40 Days for Life Campaign from March 5th until April 13th.\nGo to www.40daysforlife.com/cherryhill \nto sign up and pray peacefully that mothers will choose life. Ask your spouse or a friend to sign up with you! Our goal is to have two people praying peacefully Tuesday through Saturday\, 7 a.m. to 7 p.m. \nIf you have questions or concerns\, need a prayer partner\, or want to sign up by phone\, call/ text Claire at 856-313-9861. \n  \n 
URL:https://www.camdendiocese.org/event/40-days-for-life-lent-2025/2025-04-07/
CATEGORIES:Office of Life and Justice Ministries
ATTACH;FMTTYPE=image/png:https://www.camdendiocese.org/wp-content/uploads/2014/09/www.thelivingvine.org_Portals_0_Upcoming-Events_40Days.png
END:VEVENT
BEGIN:VEVENT
DTSTART;TZID=America/New_York:20250406T140000
DTEND;TZID=America/New_York:20250406T190000
DTSTAMP:20260419T125953
CREATED:20250318T151308Z
LAST-MODIFIED:20250318T151457Z
UID:59589-1743948000-1743966000@www.camdendiocese.org
SUMMARY:Black Catholic Apostolate Afternoon of Jazz
DESCRIPTION:
URL:https://www.camdendiocese.org/event/afternoon-of-jazz-4-06-25/
CATEGORIES:Main Events
ATTACH;FMTTYPE=image/png:https://www.camdendiocese.org/wp-content/uploads/2025/03/Afternoon-of-Jazz-4.6.25-web-e1742310779414.png
END:VEVENT
BEGIN:VEVENT
DTSTART;TZID=America/New_York:20250406T103000
DTEND;TZID=America/New_York:20250406T113000
DTSTAMP:20260419T125953
CREATED:20250311T152303Z
LAST-MODIFIED:20250403T140902Z
UID:59360-1743935400-1743939000@www.camdendiocese.org
SUMMARY:Mass for Autism Acceptance Month
DESCRIPTION:On Sunday\, April 6\, St. Damien Parish will be hosting a Mass for Autism Acceptance Month at St. Frances Cabrini Church (2nd Street and Atlantic Avenue\, Ocean City) at 10:30 AM. \nPastor\, Father Tom Newton\, will be the celebrant. \nFollowing the Mass\, there will be a reception in Culliney Hall\, adjacent to the church. \n \n 
URL:https://www.camdendiocese.org/event/mass-for-autism-acceptance-month-4-06-25/
CATEGORIES:Main Events
ATTACH;FMTTYPE=image/jpeg:https://www.camdendiocese.org/wp-content/uploads/2021/10/Vitality_Logo_web.jpg
END:VEVENT
BEGIN:VEVENT
DTSTART;VALUE=DATE:20250406
DTEND;VALUE=DATE:20250407
DTSTAMP:20260419T125953
CREATED:20250225T175711Z
LAST-MODIFIED:20250225T175827Z
UID:59057-1743897600-1743983999@www.camdendiocese.org
SUMMARY:40 Days for Life
DESCRIPTION:  \n \n  \nLooking for something powerful to do for Lent this year?    Prayerful presence outside an abortion clinic has been proven to impact “no show” rates for abortion appointments up to 75%. \nThe Jubilee Year 2025 theme is Pilgrims of Hope.  Let us bring hope to mothers who may be facing desperate situations. \nJoin us for the Spring 40 Days for Life Campaign from March 5th until April 13th.\nGo to www.40daysforlife.com/cherryhill \nto sign up and pray peacefully that mothers will choose life. Ask your spouse or a friend to sign up with you! Our goal is to have two people praying peacefully Tuesday through Saturday\, 7 a.m. to 7 p.m. \nIf you have questions or concerns\, need a prayer partner\, or want to sign up by phone\, call/ text Claire at 856-313-9861. \n  \n 
URL:https://www.camdendiocese.org/event/40-days-for-life-lent-2025/2025-04-06/
CATEGORIES:Office of Life and Justice Ministries
ATTACH;FMTTYPE=image/png:https://www.camdendiocese.org/wp-content/uploads/2014/09/www.thelivingvine.org_Portals_0_Upcoming-Events_40Days.png
END:VEVENT
BEGIN:VEVENT
DTSTART;VALUE=DATE:20250405
DTEND;VALUE=DATE:20250406
DTSTAMP:20260419T125953
CREATED:20250225T175711Z
LAST-MODIFIED:20250225T175827Z
UID:59056-1743811200-1743897599@www.camdendiocese.org
SUMMARY:40 Days for Life
DESCRIPTION:  \n \n  \nLooking for something powerful to do for Lent this year?    Prayerful presence outside an abortion clinic has been proven to impact “no show” rates for abortion appointments up to 75%. \nThe Jubilee Year 2025 theme is Pilgrims of Hope.  Let us bring hope to mothers who may be facing desperate situations. \nJoin us for the Spring 40 Days for Life Campaign from March 5th until April 13th.\nGo to www.40daysforlife.com/cherryhill \nto sign up and pray peacefully that mothers will choose life. Ask your spouse or a friend to sign up with you! Our goal is to have two people praying peacefully Tuesday through Saturday\, 7 a.m. to 7 p.m. \nIf you have questions or concerns\, need a prayer partner\, or want to sign up by phone\, call/ text Claire at 856-313-9861. \n  \n 
URL:https://www.camdendiocese.org/event/40-days-for-life-lent-2025/2025-04-05/
CATEGORIES:Office of Life and Justice Ministries
ATTACH;FMTTYPE=image/png:https://www.camdendiocese.org/wp-content/uploads/2014/09/www.thelivingvine.org_Portals_0_Upcoming-Events_40Days.png
END:VEVENT
BEGIN:VEVENT
DTSTART;TZID=America/New_York:20250404T190000
DTEND;TZID=America/New_York:20250404T203000
DTSTAMP:20260419T125953
CREATED:20250225T180038Z
LAST-MODIFIED:20250225T180125Z
UID:59145-1743793200-1743798600@www.camdendiocese.org
SUMMARY:NJ Family Policy Alliance info session
DESCRIPTION:
URL:https://www.camdendiocese.org/event/nj-family-policy-alliance-info-session-4-4-25/
CATEGORIES:Office of Life and Justice Ministries
ATTACH;FMTTYPE=image/jpeg:https://www.camdendiocese.org/wp-content/uploads/2024/05/Lfe-and-Justice-Ministries-web-logo-24-1-scaled-e1714591026204.jpg
END:VEVENT
END:VCALENDAR