BEGIN:VCALENDAR
VERSION:2.0
PRODID:-//Diocese of Camden - ECPv6.15.20//NONSGML v1.0//EN
CALSCALE:GREGORIAN
METHOD:PUBLISH
X-WR-CALNAME:Diocese of Camden
X-ORIGINAL-URL:https://www.camdendiocese.org
X-WR-CALDESC:Events for Diocese of Camden
REFRESH-INTERVAL;VALUE=DURATION:PT1H
X-Robots-Tag:noindex
X-PUBLISHED-TTL:PT1H
BEGIN:VTIMEZONE
TZID:America/New_York
BEGIN:DAYLIGHT
TZOFFSETFROM:-0500
TZOFFSETTO:-0400
TZNAME:EDT
DTSTART:20240310T070000
END:DAYLIGHT
BEGIN:STANDARD
TZOFFSETFROM:-0400
TZOFFSETTO:-0500
TZNAME:EST
DTSTART:20241103T060000
END:STANDARD
BEGIN:DAYLIGHT
TZOFFSETFROM:-0500
TZOFFSETTO:-0400
TZNAME:EDT
DTSTART:20250309T070000
END:DAYLIGHT
BEGIN:STANDARD
TZOFFSETFROM:-0400
TZOFFSETTO:-0500
TZNAME:EST
DTSTART:20251102T060000
END:STANDARD
BEGIN:DAYLIGHT
TZOFFSETFROM:-0500
TZOFFSETTO:-0400
TZNAME:EDT
DTSTART:20260308T070000
END:DAYLIGHT
BEGIN:STANDARD
TZOFFSETFROM:-0400
TZOFFSETTO:-0500
TZNAME:EST
DTSTART:20261101T060000
END:STANDARD
END:VTIMEZONE
BEGIN:VEVENT
DTSTART;TZID=America/New_York:20250823T080000
DTEND;TZID=America/New_York:20250823T120000
DTSTAMP:20260419T095811
CREATED:20250611T011347Z
LAST-MODIFIED:20250611T011449Z
UID:61200-1755936000-1755950400@www.camdendiocese.org
SUMMARY:Minister of Holy Communion Training
DESCRIPTION:EXTRAORDINARY MINISTER OF HOLY COMMUNION\n\n\n\nSaturday August 23\, 2025 Time: 8 am- noon Cost: $50 \n\n\n\nLocation: Saint Vincent de Paul Parish 5021 Harding Highway\, Mays Landing \n  \nMinister of Holy Communion Training 8.23.25
URL:https://www.camdendiocese.org/event/minister-of-holy-communion-training-8-23-25/
LOCATION:St Vincent De Paul\, 5021 Harding Highway\, Mays Landing
CATEGORIES:Main Events
ATTACH;FMTTYPE=image/jpeg:https://www.camdendiocese.org/wp-content/uploads/2022/02/DOC-Camden_Diocesan_Seal_for-WEB.jpg
END:VEVENT
BEGIN:VEVENT
DTSTART;TZID=America/New_York:20250815T100000
DTEND;TZID=America/New_York:20250815T120000
DTSTAMP:20260419T095811
CREATED:20250611T195250Z
LAST-MODIFIED:20250805T133905Z
UID:61235-1755252000-1755259200@www.camdendiocese.org
SUMMARY:Bishop celebrates Assumption Mass and Wedding of the Sea in AC
DESCRIPTION:At 10 a.m. on Friday\, Aug. 15\, the Bishop Joseph Williams will celebrate Mass on the Solemnity of the Assumption of the Blessed Virgin Mary in Hard Rock Hotel & Casino’s Seminole Ballroom – 1000 Boardwalk\, Atlantic City – with the Parish of Saint Monica. Following the Mass\, a procession will begin on Pennsylvania Avenue and proceed to the beach for the Wedding of the Sea ceremony. The parish is inviting all to attend a luncheon at the Hard Rock’s Harvest Buffet after the Blessing of the Sea. For more information\, and to purchase tickets for the luncheon\, go to accatholic.org.
URL:https://www.camdendiocese.org/event/assumption-mass-and-wedding-of-the-sea-8-15-25/
LOCATION:Hard Rock Casino’s Ballroom\, 1000 Boardwalk\, Atlantic City
CATEGORIES:Main Events
ATTACH;FMTTYPE=image/jpeg:https://www.camdendiocese.org/wp-content/uploads/2016/07/Wedding-of-Sea-Logo-web-1.jpg
END:VEVENT
BEGIN:VEVENT
DTSTART;TZID=America/New_York:20250814T163000
DTEND;TZID=America/New_York:20250814T180000
DTSTAMP:20260419T095811
CREATED:20250624T200906Z
LAST-MODIFIED:20250813T124216Z
UID:61977-1755189000-1755194400@www.camdendiocese.org
SUMMARY:Bishop celebrates Assumption Vigil Mass Wedding of the Sea
DESCRIPTION:Notre Dame de la Mer Parish cordially invites you to the Vigil of The Assumption of The Blessed Virgin Mary followed by the procession down to the beach and the Wedding of the Sea. \n  \nCome celebrate this feast on Thursday\, August 14.  Preludes by our Music Ministry and Orchestra will begin at 4 pm. \n-Bishop Williams will preside over the Liturgy which will begin at 4:30pm at St. Ann Church\, 2901 Atlantic Ave\, Wildwood. \n  \n-Immediately following the mass\, all are invited to join the procession of Mary and her Mysteries of the Rosary through the streets of Wildwood\, over the boardwalk and down to the ocean for the Wedding of the Sea. \n-Beach transportation will be available for those in need. \n-Holy water bottles will be available for purchase in the church vestibule of St. Ann Church. \n 
URL:https://www.camdendiocese.org/event/bishop-celebrate-assumption-vigil-wedding-of-the-sea-8-14-25/
LOCATION:Notre Dame de la Mer Parish\, St. Ann Church\, 2901 Atlantic Ave\, Wildwood\, NJ
CATEGORIES:Jubilee2025,Main Events
ATTACH;FMTTYPE=image/jpeg:https://www.camdendiocese.org/wp-content/uploads/2022/06/wedding-of-sea-wildwood-boat-web.jpg
END:VEVENT
BEGIN:VEVENT
DTSTART;TZID=America/New_York:20250813T173000
DTEND;TZID=America/New_York:20250813T193000
DTSTAMP:20260419T095811
CREATED:20250711T143213Z
LAST-MODIFIED:20250723T121621Z
UID:62771-1755106200-1755113400@www.camdendiocese.org
SUMMARY:Catholic Business Network Happy Hour 08-13-25
DESCRIPTION:The Catholic Business Network invites business professionals to join Bishop Williams at this happy hour networking event. \nWhen: Wednesday\, Aug. 13\, 5:30 p.m. \nWhere: the Forum\, 109 N. Black Horse Pike\, Blackwood \nWelcome and Opening Prayer: 5:30 p.m. \nHappy Hour: Appetizers\, Coffee\, Tea\, Soda\, Beer & Wine \nNetworking: Cultivate connections and forge alliances within the Catholic Business Community \nTicket prices: Free for current members; $15 for prospective members \nREGISTER HERE\n 
URL:https://www.camdendiocese.org/event/catholic-business-network-happy-hour-08-13-25/
CATEGORIES:Main Events
ATTACH;FMTTYPE=image/jpeg:https://www.camdendiocese.org/wp-content/uploads/2018/10/CBN-NEW-LOGO-1-e1730747727923.jpg
END:VEVENT
BEGIN:VEVENT
DTSTART;VALUE=DATE:20250810
DTEND;VALUE=DATE:20250817
DTSTAMP:20260419T095811
CREATED:20250505T171424Z
LAST-MODIFIED:20250514T142305Z
UID:60701-1754784000-1755388799@www.camdendiocese.org
SUMMARY:Summer in the City
DESCRIPTION:  \n \nThe Summer in the City Program is a week–long immersion project where the participant is allowed to live and work the gospel of service and social justice through the gift of self. The combination of Service at multiple work sites and reflection sessions gives young people the chance to use their talents and abilities to help their neighbor\, and increase their awareness and understanding of the importance of the rights and dignity of the human person. Lodging will take place at Blessed Carlo Acutis Center in Cherry Hill. \n  \nDATES – August 10 – 16\, 2025 \nLOCATION – Blessed Carlo Acutis Center\n300 Cuthbert Boulevard Cherry Hill\, NJ 08002 \nREGISTRATION FEE – $170.00 \n(Fee covers meals\, lodging\, and program materials) \nThis Week is for High School Students and may be used as service hours upon completion \n*REGISTRATION IS ON A FIRST-COME\, FIRST-SERVED BASIS – SPACE IS LIMITED \n<< REGISTER HERE >> \n 
URL:https://www.camdendiocese.org/event/summer-in-the-city-2025/2025-08-10/
CATEGORIES:Main Events,Office of Life and Justice Ministries
ATTACH;FMTTYPE=image/jpeg:https://www.camdendiocese.org/wp-content/uploads/2025/05/DOC_Web_2025_SITC-1.jpg
END:VEVENT
BEGIN:VEVENT
DTSTART;TZID=America/New_York:20250802T100000
DTEND;TZID=America/New_York:20250802T150000
DTSTAMP:20260419T095811
CREATED:20250724T172932Z
LAST-MODIFIED:20250724T172932Z
UID:63106-1754128800-1754146800@www.camdendiocese.org
SUMMARY:Guardian Angels of Life
DESCRIPTION:
URL:https://www.camdendiocese.org/event/guardian-angels-of-life/
CATEGORIES:Office of Life and Justice Ministries
ATTACH;FMTTYPE=image/jpeg:https://www.camdendiocese.org/wp-content/uploads/2024/05/Lfe-and-Justice-Ministries-web-logo-24-1-scaled-e1714591026204.jpg
END:VEVENT
BEGIN:VEVENT
DTSTART;TZID=America/New_York:20250726T120000
DTEND;TZID=America/New_York:20250726T200000
DTSTAMP:20260419T095811
CREATED:20250716T113738Z
LAST-MODIFIED:20250716T113840Z
UID:62855-1753531200-1753560000@www.camdendiocese.org
SUMMARY:Project Andrew Day of Fellowship
DESCRIPTION:On Saturday July 26\, Bishop Williams and the Diocesan seminarians will host a Day of Fellowship for young men\, ages 16-25\, who are discerning the priesthood from 12-5pm at St. Anthony of Padua Church in Hammonton. For more information\, please visit CamdenPriest.org \n 
URL:https://www.camdendiocese.org/event/project-andrew-day-of-fellowship-7-26-25/
CATEGORIES:Main Events
ATTACH;FMTTYPE=image/jpeg:https://www.camdendiocese.org/wp-content/uploads/2019/09/Logo_camden_priest-web-1.jpg
END:VEVENT
BEGIN:VEVENT
DTSTART;TZID=America/New_York:20250726T083000
DTEND;TZID=America/New_York:20250726T123000
DTSTAMP:20260419T095811
CREATED:20250531T004653Z
LAST-MODIFIED:20250531T005444Z
UID:61052-1753518600-1753533000@www.camdendiocese.org
SUMMARY:Lector Training
DESCRIPTION:LECTOR TRAINING\n\nSaturday July 26\, 2025\n8:30am-12:30pm\n\nCost: $50 \nCatholic Community of the Holy Spirit\, Holy Name of Jesus Church\, Spirit Café\n17 Earlington Avenue\, Mullica Hill \n  \nRegistration for Lector Training 7.26.25
URL:https://www.camdendiocese.org/event/lector-training-7-26-25/
LOCATION:Catholic Community of the Holy Spirit\, 17 Earlington Ave\, Mullica Hill\, NJ
CATEGORIES:Main Events
ATTACH;FMTTYPE=image/jpeg:https://www.camdendiocese.org/wp-content/uploads/2017/06/DOC_Logo_600X400-1.jpg
END:VEVENT
BEGIN:VEVENT
DTSTART;TZID=America/New_York:20250716T140000
DTEND;TZID=America/New_York:20250716T153000
DTSTAMP:20260419T095811
CREATED:20250709T225519Z
LAST-MODIFIED:20250714T193832Z
UID:62751-1752674400-1752679800@www.camdendiocese.org
SUMMARY:Bishop celebrates Canonical Coronation Mass for Our Lady of Mt Carmel
DESCRIPTION:To commemorate the 150th Anniversary of the Our Lady of Mt Carmel Festival in Hammonton\, a Canonical Coronation has been granted by Papal decree\, a rare and profound honor bestowed by the authority of Pope Francis. \n\nThe coronation will be celebrated on the Feast Day\, July 16\, with a 2 p.m. Mass by Bishop Joseph A. Williams at Saint Joseph Church\, 226 French Street\, Hammonton. A procession will follow the Mass. \n\n\nEveryone is welcome to attend the Mass or pray together via livestream on our diocesan social media channels:facebook.com/DioceseOfCamden;youtube.com/camdendiocese;www.CatholicStarHerald.org. \n\nFor more information on the 150th Anniversary of the Our Lady of Mt Carmel festival\, go to olmc150.com.\n\n \n 
URL:https://www.camdendiocese.org/event/bishop-celebrates-canonical-coronation-mass-for-our-lady-of-mt-carmel/
LOCATION:Saint Mary of Mount Carmel Parish\, 226 French Street\, Hammonton\, NJ
CATEGORIES:Main Events
ATTACH;FMTTYPE=image/png:https://www.camdendiocese.org/wp-content/uploads/2025/07/OLMC-150th-Feast-in-Hammonton-web-image-e1752102073247.png
END:VEVENT
BEGIN:VEVENT
DTSTART;TZID=America/New_York:20250619T110000
DTEND;TZID=America/New_York:20250619T150000
DTSTAMP:20260419T095811
CREATED:20250430T005524Z
LAST-MODIFIED:20250602T162224Z
UID:60565-1750330800-1750345200@www.camdendiocese.org
SUMMARY:Juneteenth Luncheon with ValLimar Jansen in Atlantic City
DESCRIPTION:Office of Life & Justice will co-sponsor the Juneteenth Celebration\, Thursday\, June 19th\, at St. Monica’s in Atlantic City. \n  \n  \n \n 
URL:https://www.camdendiocese.org/event/juneteenth-luncheon-with-vallimar-jansen-in-atlantic-city/
LOCATION:Parish of Saint Monica\, 15 N California Ave\, Atlantic City\, NJ\, 08401
CATEGORIES:Main Events,Office of Life and Justice Ministries
ATTACH;FMTTYPE=image/jpeg:https://www.camdendiocese.org/wp-content/uploads/2024/05/Lfe-and-Justice-Ministries-web-logo-24-1-scaled-e1714591026204.jpg
END:VEVENT
BEGIN:VEVENT
DTSTART;TZID=America/New_York:20250614T190000
DTEND;TZID=America/New_York:20250614T210000
DTSTAMP:20260419T095811
CREATED:20250611T195608Z
LAST-MODIFIED:20250611T195616Z
UID:61239-1749927600-1749934800@www.camdendiocese.org
SUMMARY:Encuentro Diocesano de Movimientos Eclesiales
DESCRIPTION:
URL:https://www.camdendiocese.org/event/encuentro-diocesano-de-movimientos-eclesiales-6-14-25/
CATEGORIES:Jubilee2025,Main Events
ATTACH;FMTTYPE=image/jpeg:https://www.camdendiocese.org/wp-content/uploads/2020/04/HM-diocesis-logo-web-1.jpg
END:VEVENT
BEGIN:VEVENT
DTSTART;TZID=America/New_York:20250613T083000
DTEND;TZID=America/New_York:20250613T103000
DTSTAMP:20260419T095811
CREATED:20250513T150934Z
LAST-MODIFIED:20250528T171041Z
UID:60822-1749803400-1749810600@www.camdendiocese.org
SUMMARY:Catholic Business Network Meeting 06-13-25
DESCRIPTION:REGISTER HERE\nThe Catholic Business Network will hold an in-person meeting. All business professionals are welcome to this event. Great opportunity for those who live closer to the Jersey shore. For those who are not local\, ride down the shore for Mass and networking then enjoy the beach for the day or weekend! \nWHEN: Friday\, June 13 \nWHERE: Saint Thomas the Apostle Roman Catholic Church\, 331 8th St S\, Brigantine\, NJ 08203 \nMASS: 8:30 AM in Saint Thomas the Apostle Roman Catholic Church \nBREAKFAST: 9:00 AM\, St. Philip Hall \nWELCOME & INTRODUCTIONS: Catholic Business Network President Jeff Morris. \nSPEAKER: Nick Sena\, Director of Community Development & Partnerships\, Edelman Fossil Park & Museum \nSPONSOR: Brindisi Builders \n  \n 
URL:https://www.camdendiocese.org/event/catholic-business-network-meeting-06-13-25/
CATEGORIES:Main Events
ATTACH;FMTTYPE=image/jpeg:https://www.camdendiocese.org/wp-content/uploads/2018/10/CBN-NEW-LOGO-1-e1730747727923.jpg
END:VEVENT
BEGIN:VEVENT
DTSTART;TZID=America/New_York:20250607T180000
DTEND;TZID=America/New_York:20250607T220000
DTSTAMP:20260419T095811
CREATED:20250527T190852Z
LAST-MODIFIED:20250527T191008Z
UID:60960-1749319200-1749333600@www.camdendiocese.org
SUMMARY:Guardians of Life Benefit 6.07.25
DESCRIPTION:All are welcome! Contact Lynn Saunders from Guardian Angels of Life\, 856-628-6735 \n 
URL:https://www.camdendiocese.org/event/guardians-of-life-benefit-6-07-25/
CATEGORIES:Office of Life and Justice Ministries
ATTACH;FMTTYPE=image/jpeg:https://www.camdendiocese.org/wp-content/uploads/2024/05/Lfe-and-Justice-Ministries-web-logo-24-1-scaled-e1714591026204.jpg
END:VEVENT
BEGIN:VEVENT
DTSTART;TZID=America/New_York:20250606T190000
DTEND;TZID=America/New_York:20250606T203000
DTSTAMP:20260419T095811
CREATED:20250602T165436Z
LAST-MODIFIED:20250602T165552Z
UID:61060-1749236400-1749241800@www.camdendiocese.org
SUMMARY:Mass of Welcome and Inclusion
DESCRIPTION:
URL:https://www.camdendiocese.org/event/mass-of-iwelcome-and-inclusion-6-06-25/
LOCATION:Holy Family Parish\, Sewell\, NJ
CATEGORIES:Office of Life and Justice Ministries
ATTACH;FMTTYPE=image/jpeg:https://www.camdendiocese.org/wp-content/uploads/2024/05/Lfe-and-Justice-Ministries-web-logo-24-1-scaled-e1714591026204.jpg
END:VEVENT
BEGIN:VEVENT
DTSTART;TZID=America/New_York:20250603T190000
DTEND;TZID=America/New_York:20250603T210000
DTSTAMP:20260419T095811
CREATED:20250430T202827Z
LAST-MODIFIED:20250430T202931Z
UID:60650-1748977200-1748984400@www.camdendiocese.org
SUMMARY:Eucharistic Minister of Holy Communion Training
DESCRIPTION:EXTRAORDINARY MINISTER OF HOLY COMMUNION\n\nCost: $50 for both\nBoth the Zoom meeting and one in-person session is required for certification \nTuesday June 3\, 2025\nZoom\, 7 -9 p.m. \nIn-Person Sessions (Choose One) \nTuesday June 10\, 2025\n7-9 pm\, Holy Trinity Parish\, Saint James Church\n6415 Atlantic Avenue\, Ventnor \nWednesday June 11\, 2025\,\n7-9 pm\, Saint Mary Parish\n2001 Springdale Road\, Cherry Hill \nEucharistic Minister Holy Communion Registration 6.3.25
URL:https://www.camdendiocese.org/event/minister-of-holy-communion-training-6-3-25/
CATEGORIES:Main Events
ATTACH;FMTTYPE=image/png:https://www.camdendiocese.org/wp-content/uploads/2019/02/DOC_Circle_600X400-1.png
END:VEVENT
BEGIN:VEVENT
DTSTART;VALUE=DATE:20250526
DTEND;VALUE=DATE:20250527
DTSTAMP:20260419T095811
CREATED:20250507T170036Z
LAST-MODIFIED:20250507T170036Z
UID:60776-1748217600-1748303999@www.camdendiocese.org
SUMMARY:SJ Catholic Cemeteries Memorial Day Masses 5.26.25
DESCRIPTION:On Monday\, May 26\, all are welcome to Memorial Day Masses celebrated in our South Jersey Catholic Cemeteries to honor and remember those who served and sacrificed for our country.\n\n\n\nHere is a schedule including all Diocesan and parish cemeteries and mausoleums.\n\n\n\nMore info\, please go to southjerseycatholiccemeteries.org.
URL:https://www.camdendiocese.org/event/sj-catholic-cemeteries-memorial-day-masses-5-26-25/
CATEGORIES:Jubilee2025,Main Events
ATTACH;FMTTYPE=image/jpeg:https://www.camdendiocese.org/wp-content/uploads/2016/09/SJCC_Logo_600-1-1.jpg
END:VEVENT
BEGIN:VEVENT
DTSTART;TZID=America/New_York:20250520T190000
DTEND;TZID=America/New_York:20250520T203000
DTSTAMP:20260419T095811
CREATED:20250507T175356Z
LAST-MODIFIED:20250507T175519Z
UID:60779-1747767600-1747773000@www.camdendiocese.org
SUMMARY:Diaconate Information Session
DESCRIPTION:  \nThe Office of the Diaconate is holding a meeting to provide information and answerquestions concerning the life and ministry of a permanent deacon. If you\, or someoneyou know\, believe that Christ is calling you to serve the Church as a deacon pleaseattend this meeting: \nWhen: Tuesday\, May 20th from 7:00 PM – 8:30 PMWhere: The Diaconate Center (133 N. 3 rd St.\, Hammonton)Who: Any man ages 30 – 55 \nPlease confirm your attendance by calling the Diaconate Office (856-583-2858) oremailing Linda.decosta@camdendiocese.org
URL:https://www.camdendiocese.org/event/diaconate-information-session-5-20-25/
CATEGORIES:Main Events
ATTACH;FMTTYPE=image/png:https://www.camdendiocese.org/wp-content/uploads/2015/05/Diaconate_600x400.png
END:VEVENT
BEGIN:VEVENT
DTSTART;TZID=America/New_York:20250520T190000
DTEND;TZID=America/New_York:20250520T200000
DTSTAMP:20260419T095811
CREATED:20250505T160714Z
LAST-MODIFIED:20250505T174850Z
UID:60694-1747767600-1747771200@www.camdendiocese.org
SUMMARY:CATHOLIC SOCIAL TEACHING & WHY IT MATTERS
DESCRIPTION:1439 Springdale Rd\, Cherry Hill Township\, NJ 08003\nPDF FLYER VERSION HERE
URL:https://www.camdendiocese.org/event/catholic-social-teaching-why-it-matters/
LOCATION:Saint Thomas More Parish\, Cherry Hill\, Cherry Hill\, 08003
CATEGORIES:Office of Life and Justice Ministries
ATTACH;FMTTYPE=image/jpeg:https://www.camdendiocese.org/wp-content/uploads/2024/09/LNJ_FEATURED_IMAGE.jpg
END:VEVENT
BEGIN:VEVENT
DTSTART;TZID=America/New_York:20250517T103000
DTEND;TZID=America/New_York:20250517T120000
DTSTAMP:20260419T095811
CREATED:20250327T191301Z
LAST-MODIFIED:20250402T005034Z
UID:59916-1747477800-1747483200@www.camdendiocese.org
SUMMARY:Priest Ordination
DESCRIPTION:
URL:https://www.camdendiocese.org/event/priest-ordination-5-17-25/
LOCATION:Mary\, Mother of Mercy\, Our Lady of Lourdes Church\, 500 Greentree Road\, Glassboro
CATEGORIES:Jubilee2025,Main Events
ATTACH;FMTTYPE=image/png:https://www.camdendiocese.org/wp-content/uploads/2025/03/2025_Priest_Ordination-web-e1743102681637.png
END:VEVENT
BEGIN:VEVENT
DTSTART;TZID=America/New_York:20250516T080000
DTEND;TZID=America/New_York:20250516T100000
DTSTAMP:20260419T095811
CREATED:20250423T151424Z
LAST-MODIFIED:20250507T181033Z
UID:60486-1747382400-1747389600@www.camdendiocese.org
SUMMARY:Catholic Business Network Meeting 05-16-25
DESCRIPTION:REGISTER HERE\nThe Catholic Business Network will hold an in-person meeting on Friday\, May 16 \nWHERE: at Saint Bridget University Parish\, 125 Church Street\, Glassboro\, NJ 08028 \nAll business professionals are welcome to this event. \nMASS: 8 AM in the Church \nWELCOME & INTRODUCTIONS: Catholic Business Network President Jeff Morris. \nBREAKFAST: 8:30 AM \nSPEAKER: Timothy Guim\, President & CEO\, PCH Technologies will speak about Artificial Intelligence (AI) \n  \nGo to: cbnsj.org \n  \n \n 
URL:https://www.camdendiocese.org/event/catholic-business-network-meeting-05-16-25/
CATEGORIES:Main Events
ATTACH;FMTTYPE=image/jpeg:https://www.camdendiocese.org/wp-content/uploads/2018/10/CBN-NEW-LOGO-1-e1730747727923.jpg
END:VEVENT
BEGIN:VEVENT
DTSTART;TZID=America/New_York:20250513T200000
DTEND;TZID=America/New_York:20250513T210000
DTSTAMP:20260419T095811
CREATED:20250224T205647Z
LAST-MODIFIED:20250226T202106Z
UID:59001-1747166400-1747170000@www.camdendiocese.org
SUMMARY:Fatima Outdoor Candlelight Rosary recitation
DESCRIPTION:Jubilee 2025 Fatima Outdoor Candlelight Rosary recitation 5.13.25 Christ the King
URL:https://www.camdendiocese.org/event/fatima-outdoor-candlelight-rosary-recitation-5-13-25/
LOCATION:Christ the King Parish\, 200 Windsor Ave.\, Haddonfield\, NJ\, 08033
CATEGORIES:Jubilee2025,Main Events
ATTACH;FMTTYPE=image/png:https://www.camdendiocese.org/wp-content/uploads/2025/02/Jubilee-2025-Fatima-Outdoor-Candlelight-Rosary-web.png
END:VEVENT
BEGIN:VEVENT
DTSTART;TZID=America/New_York:20250512T190000
DTEND;TZID=America/New_York:20250512T200000
DTSTAMP:20260419T095811
CREATED:20250417T152407Z
LAST-MODIFIED:20250417T153423Z
UID:60374-1747076400-1747080000@www.camdendiocese.org
SUMMARY:Mass of Remembrance and Healing for those who suffered loss of a child
DESCRIPTION:
URL:https://www.camdendiocese.org/event/mass-of-remembrance-and-healing-5-12-25/
LOCATION:St Maximilian Kolbe\, 200 Tuckerton Rd\, Marmora
CATEGORIES:Main Events,Office of Life and Justice Ministries
ATTACH;FMTTYPE=image/png:https://www.camdendiocese.org/wp-content/uploads/2025/03/Mass-of-Healing-Loss-of-Child-graphic-web.png
END:VEVENT
BEGIN:VEVENT
DTSTART;TZID=America/New_York:20250510T103000
DTEND;TZID=America/New_York:20250510T120000
DTSTAMP:20260419T095811
CREATED:20250327T191715Z
LAST-MODIFIED:20250402T135739Z
UID:59922-1746873000-1746878400@www.camdendiocese.org
SUMMARY:Ordination to the Transitional Diaconate
DESCRIPTION:
URL:https://www.camdendiocese.org/event/ordination-to-the-transitional-diaconate-5-10-25/
CATEGORIES:Jubilee2025,Main Events
ATTACH;FMTTYPE=image/png:https://www.camdendiocese.org/wp-content/uploads/2025/03/2025_Diaconate_Ordination-web-e1743103025173.png
END:VEVENT
BEGIN:VEVENT
DTSTART;TZID=America/New_York:20250503T083000
DTEND;TZID=America/New_York:20250503T123000
DTSTAMP:20260419T095811
CREATED:20250326T140453Z
LAST-MODIFIED:20250326T140514Z
UID:59776-1746261000-1746275400@www.camdendiocese.org
SUMMARY:Lector Training
DESCRIPTION:Cost: $50\nTime: 8:30am-12:30pm\nLocation: Saints Peter and Paul Parish\, Parish Center\n362 Ganttown Road Turnersville \n  \nRegistration for Lector Training 5.3.25
URL:https://www.camdendiocese.org/event/lector-training-5-03-25/
CATEGORIES:Main Events
ATTACH;FMTTYPE=image/jpeg:https://www.camdendiocese.org/wp-content/uploads/2022/02/DOC-Camden_Diocesan_Seal_for-WEB.jpg
END:VEVENT
BEGIN:VEVENT
DTSTART;TZID=America/New_York:20250428T190000
DTEND;TZID=America/New_York:20250428T200000
DTSTAMP:20260419T095811
CREATED:20250319T022632Z
LAST-MODIFIED:20250319T022731Z
UID:59640-1745866800-1745870400@www.camdendiocese.org
SUMMARY:Mass of Remembrance and Healing for loss of a child
DESCRIPTION:Mass of Remembrance & Healing at Christ the King Church on April 28\, 2025\, at 7:00 PM. \n  \nThis Mass is for families who have experienced the loss of a child in utero\, infancy\, or early childhood.
URL:https://www.camdendiocese.org/event/mass-of-remembrance-and-healing-4-28-25/
LOCATION:Christ the King Parish\, 200 Windsor Ave.\, Haddonfield\, NJ\, 08033
CATEGORIES:Main Events,Office of Life and Justice Ministries
ATTACH;FMTTYPE=image/png:https://www.camdendiocese.org/wp-content/uploads/2025/03/Mass-of-Healing-Loss-of-Child-graphic-web.png
END:VEVENT
BEGIN:VEVENT
DTSTART;TZID=America/New_York:20250426T090000
DTEND;TZID=America/New_York:20250426T130000
DTSTAMP:20260419T095811
CREATED:20250220T024123Z
LAST-MODIFIED:20250220T024123Z
UID:58959-1745658000-1745672400@www.camdendiocese.org
SUMMARY:Intergenerational Jubilee 2025 Pilgrimage Walk
DESCRIPTION:
URL:https://www.camdendiocese.org/event/intergenerational-jubilee-2025-pilgrimage-walk/
CATEGORIES:Jubilee2025,Main Events
ATTACH;FMTTYPE=image/jpeg:https://www.camdendiocese.org/wp-content/uploads/2021/10/Vitality_Logo_web.jpg
END:VEVENT
BEGIN:VEVENT
DTSTART;VALUE=DATE:20250426
DTEND;VALUE=DATE:20250505
DTSTAMP:20260419T095811
CREATED:20250425T005403Z
LAST-MODIFIED:20250425T005918Z
UID:60528-1745625600-1746403199@www.camdendiocese.org
SUMMARY:Novena in Memory of Pope Francis
DESCRIPTION:The entire Church mourns the death of our Holy Father\, Pope Francis. In cathedrals\, basilicas\, parish churches\, shrines\, and chapels\, the Holy Eucharist will be offered for the repose of his soul. Communities and individuals will ask God to bestow his infinite mercy on the man who served the Church as Bishop of Rome. \n\n\n \nThis novena has been prepared to help pray for the Pope during this time. \n\n\n \nThe daily novena\, beginning April 26\, consists of a short reading from Scripture or some other ecclesiastical text and some brief prayers\, including orations drawn from the Roman Missal and the Order of Christian Funerals. \n  \nNINE DAY NOVENANovena en Memoria del Papa Francisco\n 
URL:https://www.camdendiocese.org/event/novena-in-memory-of-pope-francis/2025-04-26/
CATEGORIES:Main Events
ATTACH;FMTTYPE=image/png:https://www.camdendiocese.org/wp-content/uploads/2025/04/Novena_Pope_Francis-web-image-1.png
END:VEVENT
BEGIN:VEVENT
DTSTART;VALUE=DATE:20250425
DTEND;VALUE=DATE:20250428
DTSTAMP:20260419T095811
CREATED:20250326T184046Z
LAST-MODIFIED:20250326T184447Z
UID:59784-1745539200-1745798399@www.camdendiocese.org
SUMMARY:Deaf Catholic Retreat Weekend
DESCRIPTION:
URL:https://www.camdendiocese.org/event/deaf-catholic-retreat-weekend/2025-04-25/
LOCATION:Villa Maria by the Sea\, 101 111th St\, Stone Harbor
CATEGORIES:Jubilee2025,Main Events
ATTACH;FMTTYPE=image/jpeg:https://www.camdendiocese.org/wp-content/uploads/2021/10/Vitality_Logo_web.jpg
END:VEVENT
BEGIN:VEVENT
DTSTART;TZID=America/New_York:20250423T190000
DTEND;TZID=America/New_York:20250423T200000
DTSTAMP:20260419T095811
CREATED:20250408T194855Z
LAST-MODIFIED:20250408T195006Z
UID:60122-1745434800-1745438400@www.camdendiocese.org
SUMMARY:An Evening with the Prophet Jonah _virtual event
DESCRIPTION:The Office of Life & Justice Ministries Presents \nAn Evening with the Prophet Jonah: \nA Story of Resurrection\, Expectations\, and Hope \nApril 23rd \n7 – 8 p.m. \nThe evening\, led by Dr. Kyle Thompson\, a Catholic educator\, theologian\, and biblical scholar on the theme of “hope\, ” will begin with prayer\, followed by a presentation and discussion. \nThis is a FREE\, Virtual Event \nThe prophet Jonah went to Nineveh and preached repentance to his enemies. Then\, the worst possible thing that Jonah could imagine happened—Nineveh repented\, and God relented. \nSince this is a virtual event\, please use this QR code to register or email Michael.Sims@camdendiocese.org to receive a link for the evening. If you have questions\, please call Michael Sims\, Director of Life & Justice Ministries. \n 856 -583-2910 \nClick here for info and QR code for free registration: \nThe Prophet Jonah A Story of Resurrection\, Expectations and Hope 4.23.25 Virtual event
URL:https://www.camdendiocese.org/event/an-evening-with-the-prophet-jonah/
CATEGORIES:Office of Life and Justice Ministries
ATTACH;FMTTYPE=image/jpeg:https://www.camdendiocese.org/wp-content/uploads/2024/05/Lfe-and-Justice-Ministries-web-logo-24-1-scaled-e1714591026204.jpg
END:VEVENT
BEGIN:VEVENT
DTSTART;TZID=America/New_York:20250423T120000
DTEND;TZID=America/New_York:20250423T120000
DTSTAMP:20260419T095811
CREATED:20250421T154656Z
LAST-MODIFIED:20250421T194208Z
UID:60383-1745409600-1745409600@www.camdendiocese.org
SUMMARY:Bishop Williams to celebrate Mass for the repose of the soul of Pope Francis
DESCRIPTION:Bishop Joseph Williams will celebrate a Mass for the repose of the soul of Pope Francis on Wednesday\, April 23 at 12:05 PM in the Cathedral of the Immaculate Conception\, Camden. \nAll are welcome to attend Mass in memorial and prayer for Pope Francis. \nAlso\, watch the livestream:facebook.com/CamdenDiocese;YouTube.com/camdendioceseCatholicStarHerald.org \n 
URL:https://www.camdendiocese.org/event/bishop-to-celebrate-mass-for-the-repose-of-the-soul-of-pope-francis/
LOCATION:Cathedral of the Immaculate Conception\, 642 Market Street\, Camden\, NJ
CATEGORIES:Main Events,Office of Life and Justice Ministries
ATTACH;FMTTYPE=image/jpeg:https://www.camdendiocese.org/wp-content/uploads/2025/04/20250423_PopeFrancisMass_-web.jpg
END:VEVENT
END:VCALENDAR